BEGIN:VCALENDAR
VERSION:2.0
PRODID:-//PNOA - ECPv6.15.20//NONSGML v1.0//EN
CALSCALE:GREGORIAN
METHOD:PUBLISH
X-ORIGINAL-URL:https://pnoa.ca
X-WR-CALDESC:Events for PNOA
REFRESH-INTERVAL;VALUE=DURATION:PT1H
X-Robots-Tag:noindex
X-PUBLISHED-TTL:PT1H
BEGIN:VTIMEZONE
TZID:America/Vancouver
BEGIN:DAYLIGHT
TZOFFSETFROM:-0800
TZOFFSETTO:-0700
TZNAME:PDT
DTSTART:20230312T100000
END:DAYLIGHT
BEGIN:STANDARD
TZOFFSETFROM:-0700
TZOFFSETTO:-0800
TZNAME:PST
DTSTART:20231105T090000
END:STANDARD
BEGIN:DAYLIGHT
TZOFFSETFROM:-0800
TZOFFSETTO:-0700
TZNAME:PDT
DTSTART:20240310T100000
END:DAYLIGHT
BEGIN:STANDARD
TZOFFSETFROM:-0700
TZOFFSETTO:-0800
TZNAME:PST
DTSTART:20241103T090000
END:STANDARD
BEGIN:DAYLIGHT
TZOFFSETFROM:-0800
TZOFFSETTO:-0700
TZNAME:PDT
DTSTART:20250309T100000
END:DAYLIGHT
BEGIN:STANDARD
TZOFFSETFROM:-0700
TZOFFSETTO:-0800
TZNAME:PST
DTSTART:20251102T090000
END:STANDARD
END:VTIMEZONE
BEGIN:VEVENT
DTSTART;TZID=America/Vancouver:20241103T100000
DTEND;TZID=America/Vancouver:20241103T150000
DTSTAMP:20260421T034730
CREATED:20241024T152432Z
LAST-MODIFIED:20241024T160231Z
UID:5751-1730628000-1730646000@pnoa.ca
SUMMARY:🌊 PNOA 2024 Outdoor Safety Workshop: On the Water Edition 🚣‍♂🚣‍♀
DESCRIPTION:📅 Date: November 3rd\, 2024📍 Location: Elgin Hall\, South Surrey🕒 Time: 10:00 AM – 3:00 PM🏞 Focus: Water Adventure Safety (Sea Kayaking 🛶 & Canoeing 🛶) \n\n\n\nJoin us for an exciting and informative workshop\, where we’ll dive into the essential safety tips for water adventures! Whether you’re new to water adventure or an experienced paddler\, this workshop will help ensure your next trip is safe and enjoyable. \n\n\n\n🦺 What You’ll Learn: \n\n\n\n\n💧 How to plan an water adventure\n\n\n\n🛟 Essential safety gear for water adventures\n\n\n\n⚡ Emergency response and preparedness\n\n\n\n🌦 Marine Navigating\n\n\n\n\nDon’t miss out! Learn valuable skills\, stay safe\, and have fun! 🎉 \n\n\n\nHow to Register:📧 Email us at info@pnoa.ca to reserve your spot! \n\n\n\nLet’s paddle safely together! See you on November 3rd! 😊
URL:https://pnoa.ca/event/pnoa-202411-outdoor-safety-workshop/
CATEGORIES:Canoeing & Kayaking,Community Event,Free Event,Rowing
ATTACH;FMTTYPE=image/png:https://pnoa.ca/wp-content/uploads/2024/10/Screenshot-from-2024-10-24-08-23-23.png
END:VEVENT
END:VCALENDAR