BEGIN:VCALENDAR
VERSION:2.0
PRODID:-//PNOA - ECPv6.15.20//NONSGML v1.0//EN
CALSCALE:GREGORIAN
METHOD:PUBLISH
X-WR-CALNAME:PNOA
X-ORIGINAL-URL:https://pnoa.ca
X-WR-CALDESC:Events for PNOA
REFRESH-INTERVAL;VALUE=DURATION:PT1H
X-Robots-Tag:noindex
X-PUBLISHED-TTL:PT1H
BEGIN:VTIMEZONE
TZID:America/Vancouver
BEGIN:DAYLIGHT
TZOFFSETFROM:-0800
TZOFFSETTO:-0700
TZNAME:PDT
DTSTART:20240310T100000
END:DAYLIGHT
BEGIN:STANDARD
TZOFFSETFROM:-0700
TZOFFSETTO:-0800
TZNAME:PST
DTSTART:20241103T090000
END:STANDARD
BEGIN:DAYLIGHT
TZOFFSETFROM:-0800
TZOFFSETTO:-0700
TZNAME:PDT
DTSTART:20250309T100000
END:DAYLIGHT
BEGIN:STANDARD
TZOFFSETFROM:-0700
TZOFFSETTO:-0800
TZNAME:PST
DTSTART:20251102T090000
END:STANDARD
BEGIN:DAYLIGHT
TZOFFSETFROM:-0800
TZOFFSETTO:-0700
TZNAME:PDT
DTSTART:20260308T100000
END:DAYLIGHT
BEGIN:STANDARD
TZOFFSETFROM:-0700
TZOFFSETTO:-0800
TZNAME:PST
DTSTART:20261101T090000
END:STANDARD
END:VTIMEZONE
BEGIN:VEVENT
DTSTART;TZID=America/Vancouver:20250726T074500
DTEND;TZID=America/Vancouver:20250726T143000
DTSTAMP:20260420T022551
CREATED:20250723T193148Z
LAST-MODIFIED:20250723T193815Z
UID:6816-1753515900-1753540200@pnoa.ca
SUMMARY:🚴‍♂️🌊 Exciting Gravel Bike Ride Announcement! / 精彩砾石骑行活动公告! 🌊🚴‍♀️
DESCRIPTION:📢 Calling all cycling enthusiasts! Join us for the PNOA Delta Mud Bay Gravel Bike Ride on July 26th\, 2025! / 骑行爱好者们注意啦！快来参加2025年7月26日的PNOA三角洲泥湾砾石骑行活动！🌞 \n\n\n\n📍 Location / 地点: Boundary Bay Dyke Trail (Scenic views guaranteed! / 绝美风景等你来赏! 🌿🌊)👨‍💼 Leader / 领队: Timothy Chen | Assistant Leader / 副领队: Michael Wang👥 Max Participants / 人数限制: 16 (Sign up fast—spots are limited! / 名额有限，速速报名! ⏳) \n\n\n\n🎯 Event Objectives / 活动目标:\n\n\n\n✅ Refresh & teach cycling safety / 巩固和传授骑行安全知识 🚦 (Great for both new & returning riders! / 新手老手都适合!)✅ Exploring stunning views along Boundary Bay Dyke Trail / 探索Boundary Bay堤坝步道沿途风光 🌅✅ Continue choosing qualified future leaders / 选拔和培养未来的合格活动领队 🌟 \n\n\n\n🛣️ Itinerary (Weather Dependent / 行程安排 视天气情况调整 ☀️🌧️):\n\n\n\nWe’ve prepared 2 routes with different lengths & difficulty levels! / 我们准备了两条不同长度和难度的路线! Teams will gather at different spots—check the registration form for details. / 各小队集合地点不同，详情请查看报名表。📋 \n\n\n\n🚲 Required Equipment / 必备装备:\n\n\n\n1️⃣ Gravel/Hybrid/Mountain Bike or Class 1 e-Bike (No road bikes! / 砾石车/混合车/山地车或Class 1电动自行车 公路车不可参加! 🚫)2️⃣ Helmet (Mandatory! / 必须佩戴! ⛑️) + Front & Rear Bike Lights / 车前灯和尾灯 💡 \n\n\n\n📝 How to Register / 报名方式:📧 To register\, email us at: INFO@PNOA.CA📧 请发送邮件至INFO@PNOA.CA报名 \n\n\n\nDon’t miss this fun\, safe & scenic adventure! / 别错过这场有趣、安全又风景如画的骑行之旅! 🚵‍♂️💨 See you there! / 我们不见不散! 🎉
URL:https://pnoa.ca/event/20250726-pnoa-delta-mud-bay-gravel-bike-ride/
CATEGORIES:Community Event,Cycling & Mountain Biking,Free Event
ATTACH;FMTTYPE=image/jpeg:https://pnoa.ca/wp-content/uploads/2025/07/P1120087.jpg
ORGANIZER;CN="Timothy":MAILTO:Timothy.Chen@pnoa.ca
END:VEVENT
END:VCALENDAR