BEGIN:VCALENDAR
VERSION:2.0
PRODID:-//PNOA - ECPv6.15.20//NONSGML v1.0//EN
CALSCALE:GREGORIAN
METHOD:PUBLISH
X-ORIGINAL-URL:https://pnoa.ca
X-WR-CALDESC:Events for PNOA
REFRESH-INTERVAL;VALUE=DURATION:PT1H
X-Robots-Tag:noindex
X-PUBLISHED-TTL:PT1H
BEGIN:VTIMEZONE
TZID:America/Vancouver
BEGIN:DAYLIGHT
TZOFFSETFROM:-0800
TZOFFSETTO:-0700
TZNAME:PDT
DTSTART:20240310T100000
END:DAYLIGHT
BEGIN:STANDARD
TZOFFSETFROM:-0700
TZOFFSETTO:-0800
TZNAME:PST
DTSTART:20241103T090000
END:STANDARD
BEGIN:DAYLIGHT
TZOFFSETFROM:-0800
TZOFFSETTO:-0700
TZNAME:PDT
DTSTART:20250309T100000
END:DAYLIGHT
BEGIN:STANDARD
TZOFFSETFROM:-0700
TZOFFSETTO:-0800
TZNAME:PST
DTSTART:20251102T090000
END:STANDARD
BEGIN:DAYLIGHT
TZOFFSETFROM:-0800
TZOFFSETTO:-0700
TZNAME:PDT
DTSTART:20260308T100000
END:DAYLIGHT
BEGIN:STANDARD
TZOFFSETFROM:-0700
TZOFFSETTO:-0800
TZNAME:PST
DTSTART:20261101T090000
END:STANDARD
END:VTIMEZONE
BEGIN:VEVENT
DTSTART;TZID=America/Vancouver:20250720T074500
DTEND;TZID=America/Vancouver:20250720T170000
DTSTAMP:20260420T022736
CREATED:20250716T235935Z
LAST-MODIFIED:20250717T000523Z
UID:6754-1752997500-1753030800@pnoa.ca
SUMMARY:🚴‍♂️ Alouette River - Pitt Lake Loop Cycling｜阿卢埃特河－皮特湖环骑 🚴‍♀️
DESCRIPTION:📍 Location/地点： Poco Trail\, Alouette River\, Pitt Lake\, Fort Langley📅 Date/日期： Sunday\, July 20\, 2025👥 Max/限额： 16 people🧭 Leader/领队： Timothy Chen👬 Assistants/协助： Michael Wang\, Jason Yan \n\n\n\n\n\n\n\n🌟 Goals/活动目标：✅ Cycling safety refresh｜复习骑行安全✅ Explore GVRD trails｜探索大温美景✅ Support new leaders｜培养活动领队 \n\n\n\n\n\n\n\n🗺️ Routes/路线： 3 levels – Advanced\, Intermediate\, Beginner｜三条路线适合不同骑行水平📄 Details in registration email｜路线详情将随报名邮件提供 \n\n\n\n\n\n\n\n🔧 Gear/装备：✔ Gravel / Hybrid / Mountain / Class 1 E-Bike（良好状态）❌ No road bikes｜禁止公路车🪖 Helmet + 💡 Lights required｜头盔+前后车灯必备 \n\n\n\n\n\n\n\n📝 How to Register / 报名方式：📧 To register\, email us at: INFO@PNOA.CA📧 报名请发电邮至：INFO@PNOA.CA \n\n\n\n\n\n\n\n🌲 Let’s ride safe & have fun!｜一起安全骑行，快乐出发！😎
URL:https://pnoa.ca/event/20250720-alouette-river-pitt-lake-loop-cycling/
CATEGORIES:Community Event,Cycling & Mountain Biking,Free Event
ATTACH;FMTTYPE=image/jpeg:https://pnoa.ca/wp-content/uploads/2025/07/CyclingalongthedykesatPittMeadows.jpg
ORGANIZER;CN="Timothy":MAILTO:Timothy.Chen@pnoa.ca
END:VEVENT
END:VCALENDAR