BEGIN:VCALENDAR
VERSION:2.0
PRODID:-//PNOA - ECPv6.15.20//NONSGML v1.0//EN
CALSCALE:GREGORIAN
METHOD:PUBLISH
X-WR-CALNAME:PNOA
X-ORIGINAL-URL:https://pnoa.ca
X-WR-CALDESC:Events for PNOA
REFRESH-INTERVAL;VALUE=DURATION:PT1H
X-Robots-Tag:noindex
X-PUBLISHED-TTL:PT1H
BEGIN:VTIMEZONE
TZID:America/Vancouver
BEGIN:DAYLIGHT
TZOFFSETFROM:-0800
TZOFFSETTO:-0700
TZNAME:PDT
DTSTART:20240310T100000
END:DAYLIGHT
BEGIN:STANDARD
TZOFFSETFROM:-0700
TZOFFSETTO:-0800
TZNAME:PST
DTSTART:20241103T090000
END:STANDARD
BEGIN:DAYLIGHT
TZOFFSETFROM:-0800
TZOFFSETTO:-0700
TZNAME:PDT
DTSTART:20250309T100000
END:DAYLIGHT
BEGIN:STANDARD
TZOFFSETFROM:-0700
TZOFFSETTO:-0800
TZNAME:PST
DTSTART:20251102T090000
END:STANDARD
BEGIN:DAYLIGHT
TZOFFSETFROM:-0800
TZOFFSETTO:-0700
TZNAME:PDT
DTSTART:20260308T100000
END:DAYLIGHT
BEGIN:STANDARD
TZOFFSETFROM:-0700
TZOFFSETTO:-0800
TZNAME:PST
DTSTART:20261101T090000
END:STANDARD
END:VTIMEZONE
BEGIN:VEVENT
DTSTART;TZID=America/Vancouver:20250713T081500
DTEND;TZID=America/Vancouver:20250713T123000
DTSTAMP:20260420T022647
CREATED:20250712T000114Z
LAST-MODIFIED:20250712T000558Z
UID:6694-1752394500-1752409800@pnoa.ca
SUMMARY:🚴‍♂️🌿 PNOA Gravel Bike Adventure 砾石自行车探险活动 🌉🌞
DESCRIPTION:📅 Date 日期： July 13th\, 2025（星期日 Sunday）📍 Location 地点： Surrey / Langley / Pitt Meadows / Poco Trail🧭 Leader 领骑： Timothy Chen🧑‍🤝‍🧑 Assistant Leader 协助领骑： Michael Wang👥 Max Participants 名额： 8 人（先到先得！） \n\n\n\n\n\n\n\n🌟 Highlights 活动亮点：✅ Cycling safety refresher & practice✅ 骑行安全复习与实践🌄 Scenic route with Poco Trail & multiple bridge crossings🌄 Poco Trail + 多座桥梁的沿途风景🛤️ 52.8 KM\, mostly on car-free gravel paths (260m elevation gain)🛤️ 全程52.8公里，主要为无车碎石小径（海拔爬升260米） \n\n\n\n\n\n\n\n🔧 Equipment 装备要求：🚴 Gravel/Hybrid/MTB or Class 1 e-bike in good condition🚴 碎石车、混合车、登山车或 Class 1 电动辅助车（车况良好）⛔ No road bikes permitted⛔ 禁止使用公路车🪖 Helmet is mandatory🪖 必须佩戴头盔💡 Front & rear lights required (even during the day)💡 必须配备前后灯（白天也需开启） \n\n\n\n\n\n\n\n📍 Meeting Info 集合信息：🕗 8:15 AM @ Tynehead Park (West Parking Lot)\, Surrey🕗 上午8:15 在素里 Tynehead 公园西侧停车场集合🚴‍♂️ Start 出发：8:30 AM ｜ 🕛 Finish 结束：12:30 PM \n\n\n\n\n\n\n\n📝 How to Register / 报名方式：📧 To register\, email us at: INFO@PNOA.CA📧 报名请发电邮至：INFO@PNOA.CA \n\n\n\nLet’s ride smart\, safe\, and scenic!一起安全骑、享风景！💪🚴🌿
URL:https://pnoa.ca/event/20250713-poco-trail-cycling/
CATEGORIES:Community Event,Cycling & Mountain Biking,Free Event
ATTACH;FMTTYPE=image/png:https://pnoa.ca/wp-content/uploads/2025/07/Unsaved-Image-2.png
ORGANIZER;CN="Timothy":MAILTO:Timothy.Chen@pnoa.ca
END:VEVENT
END:VCALENDAR