BEGIN:VCALENDAR
VERSION:2.0
PRODID:-//PNOA - ECPv6.15.20//NONSGML v1.0//EN
CALSCALE:GREGORIAN
METHOD:PUBLISH
X-ORIGINAL-URL:https://pnoa.ca
X-WR-CALDESC:Events for PNOA
REFRESH-INTERVAL;VALUE=DURATION:PT1H
X-Robots-Tag:noindex
X-PUBLISHED-TTL:PT1H
BEGIN:VTIMEZONE
TZID:America/Vancouver
BEGIN:DAYLIGHT
TZOFFSETFROM:-0800
TZOFFSETTO:-0700
TZNAME:PDT
DTSTART:20240310T100000
END:DAYLIGHT
BEGIN:STANDARD
TZOFFSETFROM:-0700
TZOFFSETTO:-0800
TZNAME:PST
DTSTART:20241103T090000
END:STANDARD
BEGIN:DAYLIGHT
TZOFFSETFROM:-0800
TZOFFSETTO:-0700
TZNAME:PDT
DTSTART:20250309T100000
END:DAYLIGHT
BEGIN:STANDARD
TZOFFSETFROM:-0700
TZOFFSETTO:-0800
TZNAME:PST
DTSTART:20251102T090000
END:STANDARD
BEGIN:DAYLIGHT
TZOFFSETFROM:-0800
TZOFFSETTO:-0700
TZNAME:PDT
DTSTART:20260308T100000
END:DAYLIGHT
BEGIN:STANDARD
TZOFFSETFROM:-0700
TZOFFSETTO:-0800
TZNAME:PST
DTSTART:20261101T090000
END:STANDARD
END:VTIMEZONE
BEGIN:VEVENT
DTSTART;TZID=America/Vancouver:20250705T091500
DTEND;TZID=America/Vancouver:20250705T170000
DTSTAMP:20260420T022759
CREATED:20250630T235359Z
LAST-MODIFIED:20250701T001747Z
UID:6497-1751706900-1751734800@pnoa.ca
SUMMARY:📣 Get Ready to Ride on Bowen Island! 🚴‍♀️☀️ 准备好Bowen Island骑车了吗？
DESCRIPTION:Join us for a cycling day trip on Bowen Island on July 5th\, 2025! Enjoy stunning views and refresh your cycling safety skills with fellow riders. 🏞️✨ \n\n\n\n2025年7月5日，加入我们，一起在 Bowen Island 享受精彩的自行车一日游！在欣赏迷人景色的同时，也能复习骑行安全技巧，与同好一起探索！ \n\n\n\n\n\n\n\nEvent Details | 活动详情\n\n\n\n\nWhen | 日期: July 5\, 2025\n\n\n\nLeaders | 领队: Timothy Chen\, Michael Wang\, James Chen\n\n\n\nMax Spots | 人数上限: 20\n\n\n\nCost | 费用: The ferry from Horseshoe Bay is $11.95 per person with a bike (return trip is free). Participants who park cars at the ferry terminal need to pay for parking. ⛴️ 从 Horseshoe Bay 出发的渡轮票价为每人 $11.95（含自行车），回程免费。在渡轮码头停车的参加者需要支付停车费。\n\n\n\nNote | 备注: Different teams have different routes and start times. Details are in the registration form! 📝 不同小组会有不同的路线和开始时间。所有详细资讯都在报名表中！\n\n\n\n\n\n\n\n\nImportant! | 重要提示！⚠️This is a strenuous route. Please assess your fitness! Safety first\, adventure together! ❤️ | 这是一条强度较大的路线。请务必评估您的体能水平！安全第一，一起探险！❤️ \n\n\n\n\n\n\n\nHow to Register | 如何报名\n\n\n\nTo register\, email us at: INFO@PNOA.CA报名请电邮：INFO@PNOA.CA \n\n\n\nDon’t miss out on the fun! 🚲💨 不要错过这个有趣的活动！
URL:https://pnoa.ca/event/20250705-bowen-island-cycling/
CATEGORIES:Community Event,Cycling & Mountain Biking,Free Event
ATTACH;FMTTYPE=image/png:https://pnoa.ca/wp-content/uploads/2025/06/Screenshot-from-2025-06-30-17-15-29.png
ORGANIZER;CN="Timothy":MAILTO:Timothy.Chen@pnoa.ca
END:VEVENT
END:VCALENDAR