BEGIN:VCALENDAR
VERSION:2.0
PRODID:-//PNOA - ECPv6.15.20//NONSGML v1.0//EN
CALSCALE:GREGORIAN
METHOD:PUBLISH
X-ORIGINAL-URL:https://pnoa.ca
X-WR-CALDESC:Events for PNOA
REFRESH-INTERVAL;VALUE=DURATION:PT1H
X-Robots-Tag:noindex
X-PUBLISHED-TTL:PT1H
BEGIN:VTIMEZONE
TZID:America/Vancouver
BEGIN:DAYLIGHT
TZOFFSETFROM:-0800
TZOFFSETTO:-0700
TZNAME:PDT
DTSTART:20240310T100000
END:DAYLIGHT
BEGIN:STANDARD
TZOFFSETFROM:-0700
TZOFFSETTO:-0800
TZNAME:PST
DTSTART:20241103T090000
END:STANDARD
BEGIN:DAYLIGHT
TZOFFSETFROM:-0800
TZOFFSETTO:-0700
TZNAME:PDT
DTSTART:20250309T100000
END:DAYLIGHT
BEGIN:STANDARD
TZOFFSETFROM:-0700
TZOFFSETTO:-0800
TZNAME:PST
DTSTART:20251102T090000
END:STANDARD
BEGIN:DAYLIGHT
TZOFFSETFROM:-0800
TZOFFSETTO:-0700
TZNAME:PDT
DTSTART:20260308T100000
END:DAYLIGHT
BEGIN:STANDARD
TZOFFSETFROM:-0700
TZOFFSETTO:-0800
TZNAME:PST
DTSTART:20261101T090000
END:STANDARD
END:VTIMEZONE
BEGIN:VEVENT
DTSTART;TZID=America/Vancouver:20250629T084500
DTEND;TZID=America/Vancouver:20250629T120000
DTSTAMP:20260422T035705
CREATED:20250626T040741Z
LAST-MODIFIED:20250626T041029Z
UID:6482-1751186700-1751198400@pnoa.ca
SUMMARY:🚴‍♂️ Cycling Evaluation Ride / 骑行能力评估活动 – June 29\, 2025 / 2025年6月29日 🌿
DESCRIPTION:📍 Where/地点: Langley/Abbotsford (0 Avenue) / 兰里/阿伯茨福德（0号公路）⏰ When/时间: June 29\, 8:45 AM meet | 9 AM start / 6月29日 8:45集合｜9点准时出发📌 Purpose/目的: Evaluation for Banff 2025 trip (or just ride for fun!) / 为2025班夫骑行露营之旅评估（欢迎休闲骑行） \n\n\n\n🔹 Teams/分组: \n\n\n\n\nChallenge (22+ km/h) / 挑战组（均速22+公里/小时）🚀\n\n\n\nRecreational (16+ km/h) / 休闲组（均速16+公里/小时）😊\n\n\n\n\n👨‍💼 Leaders/领队: Timothy Chen\, Michael Wang\, James Chen👥 Max/人数限制: 20 riders / 20人 \n\n\n\n🔗 Route details/路线详情: Email for details / 详情请咨询 \n\n\n\nHow to Register / 报名方式 📝\n\n\n\nTo register\, email us at: INFO@PNOA.CA 👇报名请发电邮至：INFO@PNOA.CA 👇 \n\n\n\nSee you there!/期待相见! 🚲💨
URL:https://pnoa.ca/event/20250629-cycling-evaluation-ride/
CATEGORIES:Community Event,Cycling & Mountain Biking,Free Event
ATTACH;FMTTYPE=image/png:https://pnoa.ca/wp-content/uploads/2025/05/Screenshot-from-2025-05-20-15-31-37.png
ORGANIZER;CN="Timothy":MAILTO:Timothy.Chen@pnoa.ca
END:VEVENT
END:VCALENDAR