BEGIN:VCALENDAR
VERSION:2.0
PRODID:-//PNOA - ECPv6.15.20//NONSGML v1.0//EN
CALSCALE:GREGORIAN
METHOD:PUBLISH
X-ORIGINAL-URL:https://pnoa.ca
X-WR-CALDESC:Events for PNOA
REFRESH-INTERVAL;VALUE=DURATION:PT1H
X-Robots-Tag:noindex
X-PUBLISHED-TTL:PT1H
BEGIN:VTIMEZONE
TZID:America/Vancouver
BEGIN:DAYLIGHT
TZOFFSETFROM:-0800
TZOFFSETTO:-0700
TZNAME:PDT
DTSTART:20230312T100000
END:DAYLIGHT
BEGIN:STANDARD
TZOFFSETFROM:-0700
TZOFFSETTO:-0800
TZNAME:PST
DTSTART:20231105T090000
END:STANDARD
BEGIN:DAYLIGHT
TZOFFSETFROM:-0800
TZOFFSETTO:-0700
TZNAME:PDT
DTSTART:20240310T100000
END:DAYLIGHT
BEGIN:STANDARD
TZOFFSETFROM:-0700
TZOFFSETTO:-0800
TZNAME:PST
DTSTART:20241103T090000
END:STANDARD
BEGIN:DAYLIGHT
TZOFFSETFROM:-0800
TZOFFSETTO:-0700
TZNAME:PDT
DTSTART:20250309T100000
END:DAYLIGHT
BEGIN:STANDARD
TZOFFSETFROM:-0700
TZOFFSETTO:-0800
TZNAME:PST
DTSTART:20251102T090000
END:STANDARD
END:VTIMEZONE
BEGIN:VEVENT
DTSTART;TZID=America/Vancouver:20241013T040000
DTEND;TZID=America/Vancouver:20241013T043000
DTSTAMP:20260422T190232
CREATED:20241009T181710Z
LAST-MODIFIED:20241009T182451Z
UID:5629-1728792000-1728793800@pnoa.ca
SUMMARY:🚴 Join Us for an Exciting Cycling Event! 🚴
DESCRIPTION:PNOA presents the Surrey/Langley/Fort Langley/Abbotsford Cycling event on October 13th\, 2024. Experience the scenic route along 0 Avenue at the US/Canada border\, perfect for all cycling enthusiasts! \n\n\n\n📅 Date: October 13th\, 2024📍 Route: 0 Avenue\, US/Canada Border📝 Registration Deadline: October 12th\, 2024 \n\n\n\nRequirements: \n\n\n\n\nA gravel bike\, hybrid bike\, or mountain bike\n\n\n\nBike essentials (helmet\, spare tube\, water\, etc.)\n\n\n\n\nDon’t miss out—reserve your spot today!📧 Contact: info@pnoa.ca \n\n\n\nSee you on the ride! 🚴‍♀️🚴‍♂️ #PNOACycling #CyclingAdventure #SurreyToAbbotsford #PNOAEvents
URL:https://pnoa.ca/event/20241013-cycling-event/
CATEGORIES:Community Event,Cycling & Mountain Biking,Free Event
ATTACH;FMTTYPE=image/png:https://pnoa.ca/wp-content/uploads/2024/10/Screenshot-from-2024-10-09-11-14-31.png
ORGANIZER;CN="Timothy":MAILTO:Timothy.Chen@pnoa.ca
END:VEVENT
END:VCALENDAR