BEGIN:VCALENDAR
VERSION:2.0
PRODID:-//PNOA - ECPv6.15.20//NONSGML v1.0//EN
CALSCALE:GREGORIAN
METHOD:PUBLISH
X-ORIGINAL-URL:https://pnoa.ca
X-WR-CALDESC:Events for PNOA
REFRESH-INTERVAL;VALUE=DURATION:PT1H
X-Robots-Tag:noindex
X-PUBLISHED-TTL:PT1H
BEGIN:VTIMEZONE
TZID:America/Vancouver
BEGIN:DAYLIGHT
TZOFFSETFROM:-0800
TZOFFSETTO:-0700
TZNAME:PDT
DTSTART:20240310T100000
END:DAYLIGHT
BEGIN:STANDARD
TZOFFSETFROM:-0700
TZOFFSETTO:-0800
TZNAME:PST
DTSTART:20241103T090000
END:STANDARD
BEGIN:DAYLIGHT
TZOFFSETFROM:-0800
TZOFFSETTO:-0700
TZNAME:PDT
DTSTART:20250309T100000
END:DAYLIGHT
BEGIN:STANDARD
TZOFFSETFROM:-0700
TZOFFSETTO:-0800
TZNAME:PST
DTSTART:20251102T090000
END:STANDARD
BEGIN:DAYLIGHT
TZOFFSETFROM:-0800
TZOFFSETTO:-0700
TZNAME:PDT
DTSTART:20260308T100000
END:DAYLIGHT
BEGIN:STANDARD
TZOFFSETFROM:-0700
TZOFFSETTO:-0800
TZNAME:PST
DTSTART:20261101T090000
END:STANDARD
END:VTIMEZONE
BEGIN:VEVENT
DTSTART;TZID=America/Vancouver:20250601T090000
DTEND;TZID=America/Vancouver:20250601T130000
DTSTAMP:20260420T022427
CREATED:20250528T221455Z
LAST-MODIFIED:20250528T221901Z
UID:6294-1748768400-1748782800@pnoa.ca
SUMMARY:🚴‍♀️🌈 PNOA Basic Cycling Safety Training – Richmond Edition is here!🌈🚴‍♀️
DESCRIPTION:📆 Date: Sunday\, June 1\, 2025📍Location: Richmond Iona Jetty Parking Lot🚴‍♀️ Route: Please see the registration form for the detail. \n\n\n\n🌤️ Weather permitting\, we’ll enjoy a group ride after the training – come experience the joy of cycling together!\n\n\n\n🔥 Highlights You Can’t Miss:👨‍🏫 Taught by James Chen\, the first PNOA member to complete the Cycling BC Ride Leader Training! \n\n\n\n🛠️ Safety knowledge + hands-on skills = packed with value\, making your ride safer and smoother!\n\n\n\n📚 Training Topics Include:✅ Straight-line riding + looking back safely 👀✅ Quick starts & emergency braking drills 🛑⚡✅ Turning techniques & 1-Up group formation 🚴‍♂️🚴‍♂️✅ Bike gear essentials & ABCDs safety check 🔧🚲🎒 \n\n\n\n✅ Proper riding posture & Ride Leader fundamentals 🚩💬\n\n\n\n📍Route & registration details coming soon – priority given to official members!\n\n\n\n🌸 Whether you’re a beginner or an experienced cyclist\, you’re warmly welcome to join us!Let’s ride into summer\, learn new skills\, make new friends\, and have fun along the way!💚🚴‍♂️🚴‍♀️💬🌿🌞 \n\n\n\n\n\n\n\n🚴‍♀️🌈 PNOA骑行安全基础培训 · Richmond专场 来啦！📆 日期：2025年6月1日（星期日）📍地点：Richmond Iona Jetty Parking Lot🚴‍♀️ 骑行路线：详情请见报名表 \n\n\n\n🌤️ 如天气允许，培训结束后将进行实地骑行体验，一起在清风中畅骑！\n\n\n\n🔥 本次亮点不可错过：👨‍🏫 由PNOA首位完成Cycling BC骑行领队培训的James 老陈亲自授课！ \n\n\n\n🛠️ 安全知识 + 实用技能 = 满满干货，骑行路上更安心！\n\n\n\n📚 培训内容包括：✅ 直线骑行 + 回头观察技巧 👀✅ 快速启动 & 紧急刹车演练 🛑⚡✅ 转弯技术 & 直线编队（1-Up） 🚴‍♂️🚴‍♂️✅ 自行车装备知识 & ABCDs 检查 🔧🚲🎒 \n\n\n\n✅ 正确骑行姿势 & Ride Leader 基础教学 🚩💬\n\n\n\n📍路线 & 报名方式即将公布，正式会员优先！\n\n\n\n🌸 不论你是骑行新手还是资深车友，欢迎一同加入～在夏日微风中，收获知识、练就本领、结识伙伴，让我们快乐出发！💚🚴‍♂️🚴‍♀️💬🌿🌞
URL:https://pnoa.ca/event/20250601-cycling-event/
CATEGORIES:Community Event,Cycling & Mountain Biking,Free Event
ATTACH;FMTTYPE=image/webp:https://pnoa.ca/wp-content/uploads/2025/04/RussellBurton202204212DX1904-1-3818e39.webp
ORGANIZER;CN="Timothy":MAILTO:Timothy.Chen@pnoa.ca
END:VEVENT
BEGIN:VEVENT
DTSTART;TZID=America/Vancouver:20250608T084500
DTEND;TZID=America/Vancouver:20250608T150000
DTSTAMP:20260420T022427
CREATED:20250603T181336Z
LAST-MODIFIED:20250603T181531Z
UID:6319-1749372300-1749394800@pnoa.ca
SUMMARY:🚴‍♀️ Seymour Lake Cycling Event is Here! 🚴‍♂️
DESCRIPTION:🚴‍♀️ Seymour Lake Cycling Event is Here! 🚴‍♂️ \n\n\n\n📅 Date: June 8\, 2025🎉 Details: Ride along the closed non-motorized lanes of Seymour Lake! Suitable for all bike types (road bikes 🚲\, gravel bikes 🛤️\, mountain bikes ⛰️\, Class 1 E-Bike etc.). Enjoy the stunning views of the Seymour Lake dam while cycling! 🌊✨ \n\n\n\n📝 How to Register: To register\, email us at: INFO@PNOA.CA 💌⏰ Registration Deadline: June 7th\, 2025 \n\n\n\n✅ Requirements: No experience needed! Beginners are welcome! 😊 Experienced riders can challenge themselves with multiple round trips to show off their skills! 💪 \n\n\n\n🏞️ Route Overview:Round trip of 23.4 km with a total elevation gain of 260 meters. Beautiful scenery with a perfect mix of challenge and enjoyment! 🌄 \n\n\n\nJoin us to cycle Seymour Lake and experience the thrill of speed combined with breathtaking views! 🚴‍♀️🌟\n\n\n\n🚴‍♀️ Seymour Lake骑行活动火热来袭！ 🚴‍♂️ \n\n\n\n📅 日期：2025年6月8日🎉 活动内容：畅游Seymour Lake封闭非机动车道，尽情骑行！适合各种单车类型（公路车🚲、砂石车🛤️、山地车⛰️、一级电辅助单车等），一边骑行一边欣赏Seymour Lake水坝的绝美风光！🌊✨ \n\n\n\n📝 报名方式：报名请电邮：INFO@PNOA.CA 💌⏰ 报名截止：2025年6月7日 \n\n\n\n✅ 参与要求：零门槛！无经验小白也能轻松加入！😊 有经验的骑行大神可以挑战多次往返，秀出你的实力！💪 \n\n\n\n🏞️ 线路概况：全程往返23.4公里，累计爬高260米，风景优美，挑战与享受兼得！🌄 \n\n\n\n快来加入我们，骑行Seymour Lake，感受速度与美景的完美碰撞！🚴‍♀️🌟
URL:https://pnoa.ca/event/20250608-seymour-lake-cycling-copy/
CATEGORIES:Community Event,Cycling & Mountain Biking,Free Event
ATTACH;FMTTYPE=image/png:https://pnoa.ca/wp-content/uploads/2025/05/Screenshot-from-2025-05-07-09-28-16.png
ORGANIZER;CN="Timothy":MAILTO:Timothy.Chen@pnoa.ca
END:VEVENT
BEGIN:VEVENT
DTSTART;TZID=America/Vancouver:20250615T063000
DTEND;TZID=America/Vancouver:20250615T183000
DTSTAMP:20260420T022427
CREATED:20250611T195958Z
LAST-MODIFIED:20250611T200449Z
UID:6334-1749969000-1750012200@pnoa.ca
SUMMARY:🚴‍♀️ Victoria One-Day Cycling Event Call! 🚴‍♀️🌳
DESCRIPTION:📅 Date: June 15th\, 2025📍 What: Join us for a scenic cycling adventure around the beautiful Victoria area! Expect ocean views\, lush greenways\, and charming local landscapes along the way. This route is suitable for gravel bikes\, mountain bikes\, and Class 1 E-bikes (⚠️ road bikes are not suitable).✨ Requirements: Participants must have local cycling experience and be prepared for intermediate-level distances and climbs.🗺️ Route: A round trip of approximately 83 km with a cumulative elevation gain of 530 meters. Riders are encouraged to pace themselves and enjoy the natural scenery. Email us for full itinerary and safety tips.📝 How to Register: Please email us at INFO@PNOA.CA to sign up 💌⚠️ Registration Deadline: June 14th\, 2025 \n\n\n\nBring your good vibes\, your bike\, and your love of nature — we can’t wait to ride with you! 🌞🚴‍♂️🌿 \n\n\n\n\n\n\n\n维多利亚单日骑行召集！🚴‍♀️🌳\n\n\n\n📅 日期：2025年6月15日（周日）📍 内容：跟随PNOA开启一段环维多利亚的风景骑行之旅！沿途将欣赏海岸线、绿道和本地自然风光。适合砂石车、山地车和 Class 1 电动自行车（⚠️不适合公路车）。✨ 要求：参加者需具备本地骑行经验，体能适中，能应对一定骑行距离与爬升。🗺️ 路线：全程约83公里，累计爬升530米，节奏自由，适合边骑边享受美景。📝 报名方式：请发送邮件至 INFO@PNOA.CA 报名 💌⚠️ 截止日期：2025年6月14日（周六） \n\n\n\n带上好心情、好体力，还有你心爱的单车，让我们在阳光与海风中一起畅骑维多利亚吧！🌞🚴‍♂️🌿
URL:https://pnoa.ca/event/20250615-victoria-cycling/
CATEGORIES:Community Event,Cycling & Mountain Biking,Free Event
ATTACH;FMTTYPE=image/png:https://pnoa.ca/wp-content/uploads/2025/06/Screenshot-from-2025-06-11-13-01-15.png
ORGANIZER;CN="Timothy":MAILTO:Timothy.Chen@pnoa.ca
END:VEVENT
BEGIN:VEVENT
DTSTART;TZID=America/Vancouver:20250622T080000
DTEND;TZID=America/Vancouver:20250622T163000
DTSTAMP:20260420T022427
CREATED:20250618T220128Z
LAST-MODIFIED:20250618T220531Z
UID:6364-1750579200-1750609800@pnoa.ca
SUMMARY:🚴‍♀️ Langley / Abbotsford / Chilliwack One-Day Cycling Event 单日骑行活动 🚴‍♂️
DESCRIPTION:📅 Date / 日期： Sunday\, June 22nd\, 2025（2025年6月22日，周日）🍦 Destination / 目的地： Mighty Moose Ice Cream — Chilliwack超人气雪糕店🌄 Route Highlights / 路线特色： Ride along the scenic 0 Avenue at the Canada–US border\, enjoy stunning views of Mt. Baker and peaceful countryside. 沿美加边境0号公路骑行，欣赏Mt. Baker雪山和乡村风光，体验边境骑行乐趣！ \n\n\n\n📍 Route Options / 路线选择（根据体力自由选择）： \n\n\n\n\n🟢 Beginner / 初级线：约65 km\n\n\n\n🔵 Intermediate / 中级线：约84 km\n\n\n\n🔴 Advanced / 高级线：约114 km📌 All routes follow the same road but have different turnaround points. 路线相同，折返点不同。\n\n\n\n\n✅ Requirements / 基本要求：For riders with some cycling experience. 适合有一定骑行经验的朋友，请根据自身情况选择合适路线。 \n\n\n\n📝 How to Register / 报名方式：📧 To register\, email us at: INFO@PNOA.CA📧 报名请发电邮至：INFO@PNOA.CA \n\n\n\n⏰ Registration Deadline / 报名截止：June 21st\, 2025 at 12:00 PM（2025年6月21日中午12点） \n\n\n\n🔥 Summer border views + delicious ice cream + a chance to challenge yourself—let’s ride together!🔥 夏日边境风光 + 雪糕犒赏 + 挑战自我，一起骑出精彩吧！🚵‍♀️🍦🌞 欢迎大家踊跃参加！
URL:https://pnoa.ca/event/20250622-langley-abbotsford-chilliwack-one-day-cycling/
CATEGORIES:Community Event,Cycling & Mountain Biking,Free Event
ATTACH;FMTTYPE=image/png:https://pnoa.ca/wp-content/uploads/2025/06/ChatGPT-Image-Jun-18-2025-03_00_26-PM.png
ORGANIZER;CN="Timothy":MAILTO:Timothy.Chen@pnoa.ca
END:VEVENT
BEGIN:VEVENT
DTSTART;TZID=America/Vancouver:20250629T084500
DTEND;TZID=America/Vancouver:20250629T120000
DTSTAMP:20260420T022427
CREATED:20250626T040741Z
LAST-MODIFIED:20250626T041029Z
UID:6482-1751186700-1751198400@pnoa.ca
SUMMARY:🚴‍♂️ Cycling Evaluation Ride / 骑行能力评估活动 – June 29\, 2025 / 2025年6月29日 🌿
DESCRIPTION:📍 Where/地点: Langley/Abbotsford (0 Avenue) / 兰里/阿伯茨福德（0号公路）⏰ When/时间: June 29\, 8:45 AM meet | 9 AM start / 6月29日 8:45集合｜9点准时出发📌 Purpose/目的: Evaluation for Banff 2025 trip (or just ride for fun!) / 为2025班夫骑行露营之旅评估（欢迎休闲骑行） \n\n\n\n🔹 Teams/分组: \n\n\n\n\nChallenge (22+ km/h) / 挑战组（均速22+公里/小时）🚀\n\n\n\nRecreational (16+ km/h) / 休闲组（均速16+公里/小时）😊\n\n\n\n\n👨‍💼 Leaders/领队: Timothy Chen\, Michael Wang\, James Chen👥 Max/人数限制: 20 riders / 20人 \n\n\n\n🔗 Route details/路线详情: Email for details / 详情请咨询 \n\n\n\nHow to Register / 报名方式 📝\n\n\n\nTo register\, email us at: INFO@PNOA.CA 👇报名请发电邮至：INFO@PNOA.CA 👇 \n\n\n\nSee you there!/期待相见! 🚲💨
URL:https://pnoa.ca/event/20250629-cycling-evaluation-ride/
CATEGORIES:Community Event,Cycling & Mountain Biking,Free Event
ATTACH;FMTTYPE=image/png:https://pnoa.ca/wp-content/uploads/2025/05/Screenshot-from-2025-05-20-15-31-37.png
ORGANIZER;CN="Timothy":MAILTO:Timothy.Chen@pnoa.ca
END:VEVENT
END:VCALENDAR