BEGIN:VCALENDAR
VERSION:2.0
PRODID:-//PNOA - ECPv6.15.20//NONSGML v1.0//EN
CALSCALE:GREGORIAN
METHOD:PUBLISH
X-ORIGINAL-URL:https://pnoa.ca
X-WR-CALDESC:Events for PNOA
REFRESH-INTERVAL;VALUE=DURATION:PT1H
X-Robots-Tag:noindex
X-PUBLISHED-TTL:PT1H
BEGIN:VTIMEZONE
TZID:America/Vancouver
BEGIN:DAYLIGHT
TZOFFSETFROM:-0800
TZOFFSETTO:-0700
TZNAME:PDT
DTSTART:20240310T100000
END:DAYLIGHT
BEGIN:STANDARD
TZOFFSETFROM:-0700
TZOFFSETTO:-0800
TZNAME:PST
DTSTART:20241103T090000
END:STANDARD
BEGIN:DAYLIGHT
TZOFFSETFROM:-0800
TZOFFSETTO:-0700
TZNAME:PDT
DTSTART:20250309T100000
END:DAYLIGHT
BEGIN:STANDARD
TZOFFSETFROM:-0700
TZOFFSETTO:-0800
TZNAME:PST
DTSTART:20251102T090000
END:STANDARD
BEGIN:DAYLIGHT
TZOFFSETFROM:-0800
TZOFFSETTO:-0700
TZNAME:PDT
DTSTART:20260308T100000
END:DAYLIGHT
BEGIN:STANDARD
TZOFFSETFROM:-0700
TZOFFSETTO:-0800
TZNAME:PST
DTSTART:20261101T090000
END:STANDARD
END:VTIMEZONE
BEGIN:VEVENT
DTSTART;TZID=America/Vancouver:20250504T090000
DTEND;TZID=America/Vancouver:20250504T170000
DTSTAMP:20260422T035520
CREATED:20250501T170451Z
LAST-MODIFIED:20250501T170904Z
UID:6248-1746349200-1746378000@pnoa.ca
SUMMARY:🚴‍♀🚴‍♂ 2025 Greater Vancouver One-Day Cycling Ride 🌸🌳
DESCRIPTION:📅 Date: Sunday\, May 4\, 2025📍 Multi-city route with short & long options — enjoy spring scenery and great company! \n\n\n\n📝 Register / Info: Email INFO@PNOA.CA⏳ Deadline: Saturday\, May 3\, 2025 \n\n\n\n💚 All levels welcome! Safety\, fun & team spirit guaranteed.Come ride the breeze with us! 🎉 \n\n\n\n\n\n\n\n📅 时间： 2025年5月4日（星期日）📍 路线： 穿越多个城市，设短线与长线，春风里尽情骑行！ \n\n\n\n📝 报名/咨询： 电邮 INFO@PNOA.CA⏳ 截止： 2025年5月3日（星期六） \n\n\n\n💚 欢迎各级骑士！安全第一，乐在其中，团结同行🎉快来一起骑出活力春天吧！
URL:https://pnoa.ca/event/20250504-cycling-event/
CATEGORIES:Community Event,Cycling & Mountain Biking,Free Event
ATTACH;FMTTYPE=image/png:https://pnoa.ca/wp-content/uploads/2025/05/Screenshot-from-2025-05-01-10-06-51.png
ORGANIZER;CN="Timothy":MAILTO:Timothy.Chen@pnoa.ca
END:VEVENT
BEGIN:VEVENT
DTSTART;TZID=America/Vancouver:20250518T084500
DTEND;TZID=America/Vancouver:20250518T150000
DTSTAMP:20260422T035520
CREATED:20250507T162551Z
LAST-MODIFIED:20250515T145311Z
UID:6275-1747557900-1747580400@pnoa.ca
SUMMARY:🚴‍♂️ PNOA Seymour Lake Cycling Day | Sun\, May 18 🔥
DESCRIPTION:📍 Route Highlights✅ Car-free bike path | All bike types welcome (Road/Gravel/MTB)🌊 Scenic dam + lakeside views | Round trip 23.4km | 260m elevation \n\n\n\n👥 Who Can JoinBeginner-friendly 🆕 | Experienced riders can challenge multiple laps ⚡ \n\n\n\n📲 How to Register: Email INFO@PNOA.CA for more details and registration 💌 \n\n\n\n💡 Reminders✔️ Helmet required | Bring water + snacks☔️ Rain or shine (Cancelled only for extreme weather) \n\n\n\n\n\n\n\n🚴‍♂️ Seymour Lake骑行日｜5.18周日🔥 \n\n\n\n📍路线亮点✅ 封闭非机动车道｜全车型兼容（公路/山地/砾石车）🌊 绝美水坝+湖景｜往返23.4km｜爬升260m \n\n\n\n👥 适合人群新手友好 🆕｜大佬可挑战多次往返⚡ \n\n\n\n📲 报名方式：请发送邮件至 INFO@PNOA.CA 获取详细信息和报名方式 💌 \n\n\n\n💡 温馨提示✔️ 必带头盔｜建议带水+零食☔️ 小雨照常｜极端天气取消
URL:https://pnoa.ca/event/20250510-seymour-lake-cycling/
CATEGORIES:Community Event,Cycling & Mountain Biking,Free Event
ATTACH;FMTTYPE=image/png:https://pnoa.ca/wp-content/uploads/2025/05/Screenshot-from-2025-05-07-09-28-16.png
ORGANIZER;CN="Timothy":MAILTO:Timothy.Chen@pnoa.ca
END:VEVENT
BEGIN:VEVENT
DTSTART;TZID=America/Vancouver:20250524T080000
DTEND;TZID=America/Vancouver:20250524T150000
DTSTAMP:20260422T035520
CREATED:20250520T222853Z
LAST-MODIFIED:20250520T224609Z
UID:6285-1748073600-1748098800@pnoa.ca
SUMMARY:🚴‍♂ PNOA Langley/Abbotsford Cycling Event - May 24th\, 2025! 🌞
DESCRIPTION:📍 Routes & Meeting Points: \n\n\n\n\nIntermediate (50km\, 160m elevation)Start/End: Aldergrove Regional Park (East Parking)🗺 Google Map🔗 Route Details\n\n\n\nAdvanced (80km\, 280m elevation)Start/End: Campbell Valley Regional Park (South Parking @ 8 Ave)🗺 Google Map🔗 Route Details\n\n\n\n\n⏰ Schedule: \n\n\n\n\nAdvanced Riders:Meet @ 8:00 AM → Ride starts 8:15 AM → Finish ~2:30 PM\n\n\n\nIntermediate Riders:Meet @ 8:45 AM → Ride starts 9:15 AM → Finish ~1:30 PM\n\n\n\nAll riders regroup @ Birchwood Dairy Farm (~11:00 AM)\n\n\n\n\n⚠ Required Gear:🛡 Helmet: MANDATORY (no helmet\, no ride!)🚲 Bike: Road/Gravel/Hybrid/MTB or Class 1 e-Bike💡 Lights: Front & rear bike lights☀ Sun protection: Sunglasses\, sunscreen\, hat📱 Essentials: Phone\, water\, snacks\, first-aid kit \n\n\n\n🔗 Sign Up: Email INFO@PNOA.CA for more details and registration 💌 \n\n\n\nWeather permitting – stay tuned for updates! ☀🌧 \n\n\n\n\n\n\n\n🚴‍♂ PNOA骑行活动 – 2025年5月24日！🌞 \n\n\n\n📍 路线及集合点： \n\n\n\n\n短线骑行 (50公里，爬升160米)起终点: Aldergrove地区公园 (东停车场)🗺 谷歌地图🔗 路线详情\n\n\n\n长线骑行 (80公里，爬升280米)起终点: Campbell Valley地区公园 (8 Ave南停车场)🗺 谷歌地图🔗 路线详情\n\n\n\n\n⏰ 时间安排： \n\n\n\n\n长线骑行组：上午8:00集合 → 8:15出发 → 约下午2:30结束\n\n\n\n短线骑行组：上午8:45集合 → 9:15出发 → 约下午1:30结束\n\n\n\n全组汇合点： Birchwood农场 (~11:00 AM)\n\n\n\n\n⚠ 必备装备：🛡 头盔：必须佩戴（无头盔不得参加！）🚲 自行车：公路车/砾石车/混合车/山地车或Class 1电动助力车💡 车灯：前灯和尾灯☀ 防晒装备：太阳镜、防晒霜、遮阳帽📱 必需品：手机、水、零食、急救包 \n\n\n\n🔗 报名方式： 请发送邮件至 INFO@PNOA.CA 获取详细信息和报名方式 💌 \n\n\n\n如遇天气变化可能调整，请持续关注！☀🌧
URL:https://pnoa.ca/event/20250524-langley-abbotsford-cycling/
CATEGORIES:Community Event,Cycling & Mountain Biking,Free Event
ATTACH;FMTTYPE=image/png:https://pnoa.ca/wp-content/uploads/2025/05/Screenshot-from-2025-05-20-15-31-37.png
ORGANIZER;CN="Timothy":MAILTO:Timothy.Chen@pnoa.ca
END:VEVENT
END:VCALENDAR