BEGIN:VCALENDAR
VERSION:2.0
PRODID:-//PNOA - ECPv6.15.20//NONSGML v1.0//EN
CALSCALE:GREGORIAN
METHOD:PUBLISH
X-ORIGINAL-URL:https://pnoa.ca
X-WR-CALDESC:Events for PNOA
REFRESH-INTERVAL;VALUE=DURATION:PT1H
X-Robots-Tag:noindex
X-PUBLISHED-TTL:PT1H
BEGIN:VTIMEZONE
TZID:America/Vancouver
BEGIN:DAYLIGHT
TZOFFSETFROM:-0800
TZOFFSETTO:-0700
TZNAME:PDT
DTSTART:20220313T100000
END:DAYLIGHT
BEGIN:STANDARD
TZOFFSETFROM:-0700
TZOFFSETTO:-0800
TZNAME:PST
DTSTART:20221106T090000
END:STANDARD
BEGIN:DAYLIGHT
TZOFFSETFROM:-0800
TZOFFSETTO:-0700
TZNAME:PDT
DTSTART:20230312T100000
END:DAYLIGHT
BEGIN:STANDARD
TZOFFSETFROM:-0700
TZOFFSETTO:-0800
TZNAME:PST
DTSTART:20231105T090000
END:STANDARD
BEGIN:DAYLIGHT
TZOFFSETFROM:-0800
TZOFFSETTO:-0700
TZNAME:PDT
DTSTART:20240310T100000
END:DAYLIGHT
BEGIN:STANDARD
TZOFFSETFROM:-0700
TZOFFSETTO:-0800
TZNAME:PST
DTSTART:20241103T090000
END:STANDARD
BEGIN:DAYLIGHT
TZOFFSETFROM:-0800
TZOFFSETTO:-0700
TZNAME:PDT
DTSTART:20250309T100000
END:DAYLIGHT
BEGIN:STANDARD
TZOFFSETFROM:-0700
TZOFFSETTO:-0800
TZNAME:PST
DTSTART:20251102T090000
END:STANDARD
BEGIN:DAYLIGHT
TZOFFSETFROM:-0800
TZOFFSETTO:-0700
TZNAME:PDT
DTSTART:20260308T100000
END:DAYLIGHT
BEGIN:STANDARD
TZOFFSETFROM:-0700
TZOFFSETTO:-0800
TZNAME:PST
DTSTART:20261101T090000
END:STANDARD
BEGIN:DAYLIGHT
TZOFFSETFROM:-0800
TZOFFSETTO:-0700
TZNAME:PDT
DTSTART:20270314T100000
END:DAYLIGHT
BEGIN:STANDARD
TZOFFSETFROM:-0700
TZOFFSETTO:-0800
TZNAME:PST
DTSTART:20271107T090000
END:STANDARD
END:VTIMEZONE
BEGIN:VEVENT
DTSTART;TZID=America/Vancouver:20260214T120000
DTEND;TZID=America/Vancouver:20260215T180000
DTSTAMP:20260422T020831
CREATED:20260207T221317Z
LAST-MODIFIED:20260207T221948Z
UID:8273-1771070400-1771178400@pnoa.ca
SUMMARY:❄️🏔️ Mt Seymour CNY Winter Camping | 迎新春雪地露营 ⛺️❄️
DESCRIPTION:Join us to ring in the New Year on the snowy peaks of Mt Seymour! Enjoy sunsets\, starry nights\, and a fresh start to the year! 🌅✨欢迎报名参加 Mt Seymour 迎新春登高露营，在雪山巅峰赏日落云海，共度难忘佳节！ \n\n\n\n📅 Date/日期: Feb 14–15\, 2026 (Sat/Sun | 周六/日)📍 Meeting Point/集合点: Mt Seymour P1 Parking Lot @ 1:30 PM👤 Leader/领队: Baishui 白水 (Max 12 people | 限12人) \n\n\n\n\n\n\n\n⚠️ REQUIRED GEAR | 必备装备 (Non-negotiable/必须齐备): \n\n\n\n\nSleep/睡眠: Winter down bag\, High R-value mat\, Snow tent + stakes 😴 冬季羽绒睡袋、高R值垫、雪帐+地钉\n\n\n\nWear/保暖: Heavy down jacket/pants\, waterproof boots\, thermal hat/gloves 🧤 厚羽绒服/裤、防水登山鞋、保暖帽手套\n\n\n\nTools/行进: Snowshoes\, crampons\, and snow shovel 🥾 雪鞋、小冰爪、雪铲\n\n\n\nFood/餐饮: BP stove\, winter gas\, food & water 🍳 BP炉具、高山气罐、充足水粮\n\n\n\n\n\n\n\n\n🕒 ITINERARY | 行程安排: \n\n\n\n\nD1: 1:45 PM Trek (3km) ➡️ Set up camp ➡️ Sunset dinner 🥘 1:45 PM 出发徒步3公里 ➡️ 安营扎寨 ➡️ 日落晚餐\n\n\n\nD2: Sunrise ➡️ Breakfast ➡️ 3 Options (By Car): 🌅 日出 ➡️ 早餐 ➡️ 三选一 (以车为单位):\n\n\n\nA) Pack up & head home 🏠 拔营下山回家\n\n\n\nB) Summit First Peak (Pump Peak) 🚶‍♂️ 轻装徒步至一峰\n\n\n\nC) Tackle First & Second Peaks 🏆 轻装挑战一峰+二峰\n\n\n\n\n\n\n\n\n📝 How to Register | 报名方式：📧 Email us at: INFO@PNOA.CA | 发送邮件至：INFO@PNOA.CA \n\n\n\n⚠️ Safety first! Subject to weather changes. 活动视天气情况调整，安全第一！
URL:https://pnoa.ca/event/20260214_15-pnoa-mt-seymour-cny-winter-camping/
CATEGORIES:Camping & Tenting,Free Event
ATTACH;FMTTYPE=image/jpeg:https://pnoa.ca/wp-content/uploads/2026/02/mmexport1746250792050-scaled.jpg
ORGANIZER;CN="Timothy":MAILTO:Timothy.Chen@pnoa.ca
END:VEVENT
BEGIN:VEVENT
DTSTART;TZID=America/Vancouver:20250905T080000
DTEND;TZID=America/Vancouver:20250907T180000
DTSTAMP:20260422T020831
CREATED:20250726T004713Z
LAST-MODIFIED:20250726T005930Z
UID:6823-1757059200-1757268000@pnoa.ca
SUMMARY:🌄 PNOA Elfin Lakes Multi-Day Backpacking Trip | PNOA Elfin Lakes 多日重装徒步之旅 🏕️🥾
DESCRIPTION:📍 Location | 地点：Elfin Lakes\, Garibaldi Provincial Park📅 Date: September 5th–7th\, 2025 | 日期：2025年9月5日–7日👥 Max Participants: 16 | 人数上限：16人 \n\n\n\n✨ Event Highlights | 活动亮点： \n\n\n\n\nEnjoy stunning alpine views at Elfin Lakes—two glacier-fed lakes surrounded by meadows and mountains 🌲🏔️ | 欣赏 Elfin Lakes 高山湖泊美景——冰川融水湖泊、草甸与群山环绕 🌲🏔️\n\n\n\nHike to Opal Cone\, a dormant volcano offering surreal lava terrain and views of Mt. Garibaldi 🌋👣 | 探索 Opal Cone 火山锥，沿途火山地貌奇特，可远眺加里波第山 🌋👣\n\n\n\nSummit Diamond Head for panoramic views of Garibaldi Park ⛰️🔭 | 攀登 Diamond Head 山脊，俯瞰加里波第公园壮丽景色 ⛰️🔭\n\n\n\nShare experiences with fellow backpackers and promote outdoor safety 🧭🛠️ | 与队友分享经验，提升户外安全意识 🧭🛠️\n\n\n\n\n📆 Itinerary (Subject to weather) | 行程安排（视天气调整）：Sept 5 (Fri): After work\, drive to trailhead and hike 11km (↑500m) to Elfin Lakes campsite 🚗➡️🏕️ | 9月5日（周五）：下班后自驾前往登山口，徒步11公里（爬升500米）至营地 🚗➡️🏕️Sept 6 (Sat): Day hike to Opal Cone – 14.4km round trip\, 670m elevation gain 🥾🌋 | 9月6日（周六）：徒步前往 Opal Cone，往返14.4公里，爬升670米 🥾🌋Sept 7 (Sun): Day hike to Diamond Head ridge – 10.3km round trip\, 830m elevation\, then hike back to trailhead 🏞️🎒 | 9月7日（周日）：徒步至 Diamond Head山脊，往返10.3公里，爬升830米，之后下山返程 🏞️🎒 \n\n\n\n📝 How to Register | 报名方式：📧 Email us at: INFO@PNOA.CA | 发送邮件至：INFO@PNOA.CA \n\n\n\nLet’s explore the magic of Garibaldi’s backcountry together! 🌤️🎒🔥 | 一起探索加里波第的绝美后山秘境吧！🌤️🎒🔥
URL:https://pnoa.ca/event/20250905_07-pnoa-elfin-lakes-multi-day-backpacking-trip/
CATEGORIES:Camping & Tenting,Free Event
ATTACH;FMTTYPE=image/jpeg:https://pnoa.ca/wp-content/uploads/2025/07/elfin-lakes.jpg
ORGANIZER;CN="Timothy":MAILTO:Timothy.Chen@pnoa.ca
END:VEVENT
BEGIN:VEVENT
DTSTART;TZID=America/Vancouver:20250808T090000
DTEND;TZID=America/Vancouver:20250810T170000
DTSTAMP:20260422T020831
CREATED:20250327T004203Z
LAST-MODIFIED:20250716T034454Z
UID:6163-1754643600-1754845200@pnoa.ca
SUMMARY:Garibaldi Lake - Helm Creek Traverse
DESCRIPTION:Paul Tan \n\n\n\n\n\n\n\n\n\n\n\n\n\n\n\n>>  About the event\n\n\n\nEnjoy the beautiful spring view of our BC park. Enhance safety awareness of outdoor activities and BP basic training. \n\n\n\n\n\n\n\n\n\n\n\n\n\n\n\nAug. 8: Friday Helm Creek Campsite \n\n\n\nAug. 9: Garibaldi Campsite \n\n\n\nAug. 10: back to home \n\n\n\n\n\n\n\n\n\n\n\n\n\n\n\n\n\n\n\n\n\nMeeting Spot\n\n\n\nAdd the meeting spot name here\n\n\n\n9 am – Helm Creek Trailhead\n\n\n\n\n\n\n\n\n\n\n\n\n\n\n\n\n\n\n\nDestination\n\n\n\nGaribaldi Lake\n\n\n\n\n\n\n\n\n\n>>  Requirements\n\n\n\n\n\n\nHave BP equipments (tents\, sleeping bags (-7°C\, sleeping pad\, strove etc)\n\n\n\nAble to hike 10KM a day carrying 30lb\n\n\n\n\n\n\n\n\n\n\n>>  Register\n\n\n\n\n\n\n\n\n\nTicket price: \n\n\n\n\n\n\n\n\n\n\n\n\n\n\n\n\n\n\n\n>>  Attendees
URL:https://pnoa.ca/event/garibaldi-helm-traverse/
LOCATION:Garibaldi Provincial Park
CATEGORIES:Camping & Tenting
ATTACH;FMTTYPE=image/jpeg:https://pnoa.ca/wp-content/uploads/2025/03/garibaldi-lake-Medium.jpeg
END:VEVENT
BEGIN:VEVENT
DTSTART;TZID=America/Vancouver:20250718T073000
DTEND;TZID=America/Vancouver:20250720T173000
DTSTAMP:20260422T020831
CREATED:20250619T034318Z
LAST-MODIFIED:20250619T035325Z
UID:6386-1752823800-1753032600@pnoa.ca
SUMMARY:🌲🎒 Garibaldi Wilderness Trek: A PNOA Backpacking Journey! / Garibaldi野外徒步：PNOA背包之旅！🎒🌲
DESCRIPTION:Hey outdoor enthusiasts! PNOA is thrilled to announce our upcoming backpacking trip to the stunning Garibaldi Provincial Park! Prepare to immerse yourselves in breathtaking views and create unforgettable memories. \n\n\n\n各位户外运动爱好者，PNOA非常高兴地宣布，我们将组织一次前往风景秀丽的加里波第省立公园的徒步旅行！准备好沉浸在令人叹为观止的美景中，创造难忘的回忆吧。 \n\n\n\nHere are the exciting details / 以下是激动人心的详情： \n\n\n\n\n📍 Location / 地点: Garibaldi Provincial Park\, BC / 加里波第省立公园，不列颠哥伦比亚省\n\n\n\n🗓️ Dates / 日期: July 18th – 20th / 7月18日至20日\n\n\n\n⏰ Start Time / 开始时间: 9:00 AM on Thursday\, July 18th / 7月18日（星期四）上午9:00\n\n\n\n👋 Meeting Point / 集合地点: Helm Creek Trailhead\n\n\n\n👋 End Time / 结束时间: 5:00 PM on Saturday\, July 20th / 7月20日（星期六）下午5:00\n\n\n\n🌟 Leader in Charge / 负责领队: Jane Zhao\n\n\n\n** begrenzt Participants / 参与人数:** Only 10 spots available! / 仅限10人！\n\n\n\n\n\n\n\n\nItinerary (Subject to Weather Conditions ☀️🌧️) / 行程安排（可能因天气情况而调整 ☀️🌧️）：\n\n\n\n\nJuly 18th (Thursday) / 7月18日（星期四）: Helm Creek Campsite 🏕️ / Helm Creek 营地 🏕️\n\n\n\nJuly 19th (Friday) / 7月19日（星期五）: Garibaldi Lake Campsite 🏞️ / Garibaldi Lake 营地 🏞️\n\n\n\nJuly 20th (Saturday) / 7月20日（星期六）: Drive Home 🚗💨 / 返程回家 🚗💨\n\n\n\n\n\n\n\n\nWhy Join Us? / 为什么加入我们？\n\n\n\n\n🌸 Experience BC’s Beauty / 体验BC省的美景: Discover the incredible spring scenery of our provincial parks. / 探索我们省立公园令人惊叹的春季风光。\n\n\n\n✨ Boost Your Outdoor Skills / 提升户外技能: Learn and practice essential outdoor safety and awareness. / 学习并实践基本的户外安全和意识。\n\n\n\n\nDon’t miss out on this incredible opportunity to connect with nature and fellow adventurers! Spaces are limited\, so mark your calendars and get ready to explore! \n\n\n\n不要错过这个亲近大自然、结识志同道合的探险者的绝佳机会！名额有限，请尽快安排您的行程，准备好去探索吧！ \n\n\n\n\n\n\n\nReady to hit the trails? Let us know if you have any questions! \n\n\n\n准备好踏上旅途了吗？如有任何疑问，请告诉我们！
URL:https://pnoa.ca/event/20250718_0720-garibaldi-backpacking/
CATEGORIES:Camping & Tenting,Free Event,Hiking & Snowshoeing
ATTACH;FMTTYPE=image/png:https://pnoa.ca/wp-content/uploads/2025/06/ChatGPT-Image-Jun-18-2025-08_52_33-PM.png
ORGANIZER;CN="Timothy":MAILTO:Timothy.Chen@pnoa.ca
END:VEVENT
BEGIN:VEVENT
DTSTART;TZID=America/Vancouver:20250629T073000
DTEND;TZID=America/Vancouver:20250701T173000
DTSTAMP:20260422T020831
CREATED:20250619T032636Z
LAST-MODIFIED:20250619T033626Z
UID:6382-1751182200-1751391000@pnoa.ca
SUMMARY:🏔️🌲 Mount Baker - Baker Lake Adventure! 🚣‍♀️| ## 🏔️🌲 Mt. Baker - Baker Lake 探险之旅! 🚣‍♀️
DESCRIPTION:Get ready for an unforgettable Canada Day Long Weekend at Baker Lake! Join us for car camping\, invigorating hikes\, and stand-up paddleboarding! 🏕️🚶‍♀️🏄‍♀️准备好在 Baker Lake 度过一个难忘的国庆长周末吧！加入我们，体验露营、徒步和桨板的乐趣！🏕️🚶‍♀️🏄‍♀️ \n\n\n\n\n\n\n\n🗓️ Event Details / 活动详情\n\n\n\n\nDates / 日期: June 29 – July 1\, 2025 (Long Weekend! 🇨🇦 / 长周末! 🇨🇦)\n\n\n\nLocation / 地点: Baker Lake (South Mt. Baker) 📍\n\n\n\nLeader / 负责人: Bai Shui / 白水\n\n\n\nMax Participants / 参与人数上限: 8 adventurers! 👯‍♀️ / 8位探险家！👯‍♀️\n\n\n\n\n\n\n\n\n🗺️ Itinerary Highlights (Weather Dependent ☀️🌧️) / 行程亮点 (视天气情况而定 ☀️🌧️)\n\n\n\n\nJune 29 / 6月29日: Arrive at Baker Lake\, set up camp\, and enjoy some SUP! ⛺ / 抵达 Baker Lake，搭建营地，享受桨板乐趣！⛺\n\n\n\nJune 30 / 6月30日: Exciting hike and a relaxing hot spring dip! ♨️ / 激动人心的徒步和放松身心的温泉浴！♨️\n\n\n\nJuly 1 / 7月1日: More hiking or SUP\, then head back to Vancouver or shop in the States! 🛍️ / 继续徒步或桨板，然后返回温哥华或在美国购物！🛍️\n\n\n\n\n\n\n\n\n✨ What to Expect / 活动目标\n\n\n\nBreathtaking rugged peaks\, scenic rivers\, and abundant wildlife! 🦌🦅🏞️欣赏崎岖的山峰、风景优美的河流和丰富的野生动物！🦌🦅🏞️ \n\n\n\n\n\n\n\nSee you there! 🤩 / 期待与您相见！🤩
URL:https://pnoa.ca/event/20250627_0701-baker-lake-car-camping/
CATEGORIES:Camping & Tenting,Free Event,Hiking & Snowshoeing
ATTACH;FMTTYPE=image/png:https://pnoa.ca/wp-content/uploads/2025/06/Screenshot-from-2025-06-18-20-35-47.png
ORGANIZER;CN="Timothy":MAILTO:Timothy.Chen@pnoa.ca
END:VEVENT
BEGIN:VEVENT
DTSTART;TZID=America/Vancouver:20230826T080000
DTEND;TZID=America/Vancouver:20230901T170000
DTSTAMP:20260422T020831
CREATED:20230613T011656Z
LAST-MODIFIED:20230613T171722Z
UID:3449-1693036800-1693587600@pnoa.ca
SUMMARY:Rockwall backpacking
DESCRIPTION:>>  About the event\n\n\n\n\n\n\n\n\n\n\n\nDiscover this 56.0-km point-to-point trail near Harrogate\, British Columbia. Generally considered a challenging route\, it takes an average of 20 h 34 min to complete. This is a very popular area for backpacking\, camping\, and hiking\, so you’ll likely encounter other people while exploring.  \n\n\n\nItinerary \n\n\n\n\nAug 26. Leaving home to Kootenay National Park\n\n\n\nAug 27 enter Rockwall trail\n\n\n\nAug 31 out Rockwall trail\, car camping at Redstreak Campground and visit Radium Hot Springs Resort\n\n\n\nSept 1 driving home\n\n\n\n\n\n\n\n\n\n\n\n\n\n\n\n\n\n\n\n\n\n\n\n\nMeeting Spot\n\n\n\nKootenay National Park\n\n\n\n7:15 am – Add the meeting time here\n\n\n\n\n\n\n\n\n\n\n\n\n\n\n\n\n\n\n\nDestination\n\n\n\nTrail map Helmet Falls <–> Floe Lake\n\n\n\n\n\n\n\n\n\n\n\n\n\n>>  Requirements\n\n\n\n\n\n\nBackpacking experience and equipments\n\n\n\n4 day BP food and supplies\n\n\n\nSwim suite (for Sept. 1st Hot spring)\n\n\n\n\n\n\n\n\n\n\n\n\n\n\n>>  Register & Ticket\n\n\n\n\n\n\n\n\n\nTicket price: \n\n\n\n\n\n\n\n\n\n\n\n\n\n\n\n\n\n\n\n\n\n\n\n>>  Attendees
URL:https://pnoa.ca/event/rockwall-backpacking/
LOCATION:Kootenay National Park
CATEGORIES:Camping & Tenting,Free Event,Multi Day Event
ATTACH;FMTTYPE=image/jpeg:https://pnoa.ca/wp-content/uploads/2023/06/rockwall.jpeg
END:VEVENT
BEGIN:VEVENT
DTSTART;TZID=America/Vancouver:20230812T080000
DTEND;TZID=America/Vancouver:20230813T170000
DTSTAMP:20260422T020831
CREATED:20230613T161023Z
LAST-MODIFIED:20230613T194227Z
UID:3470-1691827200-1691946000@pnoa.ca
SUMMARY:Whistler Kees and Claire Memorial Hut
DESCRIPTION:>>  About the event\n\n\n\n\n\n\n\n\n\n\n\n  \n\n\n\nItinerary \n\n\n\n\nAug 12 – Leaving home to Whistler and sleep in the Kees and Claire hut\n\n\n\nAug 13 – Leaving hut to Roundhouse and taking gondola down Whistler village and back to home\n\n\n\n\nThere are two routes to Kees and Claire in the summer.  \n\n\n\n\nMusical Bumps: Follow the Musical Bumps trail either from the top of the Peak Express Chair or from Roundhouse Lodge at the top of the Whistler gondola. You’ll need to purchase a sightseeing lift ticket for the day to be able to access the lifts. Musical Bumps is about a 9.5km hike each way from the peak and 10.5km from Roundhouse lodge. \n\n\n\nSinging Pass Trail: This trail starts from Whistler Village and as such has a lot more elevation to tackle than the above option. This hike is around 14km and 1450m elevation.\n\n\n\n\nThe Kees and Claire hut is pretty luxurious. It’s set over two storeys with sleeping quarters on the lower storey and a kitchen\, dining and seating area upstairs. There’s also a boot and equipment room to dry things off and 3 composting toilets.  \n\n\n\nIn the kitchen area\, you’ll find four stoves as well as all the cookware and dining equipment you need (cafetieres\, bowls\, plates\, cutlery etc). There are also some separate stoves and pans for melting snow in the winter season since there’s no drinking water available.  \n\n\n\nIn the sleeping area\, the bunks are split out into separate rooms (without doors). Some rooms sleep 4 and others sleep 6 with two double bunks and 2 single bunks. There are cubby holes to store your gear in too. \n\n\n\n\n\n\n\n\n\n\n\n\n\n\n\n\n\n\n\n\n\n\n\nMeeting Spot\n\n\n\nWhistler\n\n\n\n7:15 am – Add the meeting time here\n\n\n\n\n\n\n\n\n\n\n\n\n\n\n\n\n\n\n\nDestination\n\n\n\n Kees and Claire Hut near Russet Lake\n\n\n\n\n\n\n\n\n\n\n\n\n\n>>  Requirements\n\n\n\n\n\n\nSleeping bag\n\n\n\nOne night ( two day) food and supplies\n\n\n\n\n\n\n\n\n\n\n\n\n\n\n>>  Register & Ticket\n\n\n\n\n\n\n\n\n\nTicket price: \n\n\n\n\n\n\n\n\n\n\n\n\n\n\n\n\n\n\n\n\n\n\n\n>>  Attendees\n\n\n\n\n\n\n\n\n\n\n\n.event-tickets .tribe-tickets__rsvp-wrapper {\nmargin: 20px 0 60px 0;\n}\n\n.kt-row-column-wrap {\n    padding: 0 !important;\n}\n\n.tribe-events-schedule__date {\nfont-size: 16px;\nfont-weight:600;\n}\n\n.tribe-events-schedule__time {\n    font-size: 16px;\n}\n\n.tribe-block__venue {\n   border-top: none;\n   padding: 0;\n   margin:1rem 0 0 0;\n}\n\n.tribe-block__venue .tribe-block__venue__meta .tribe-block__venue__address\, .tribe-block__venue .tribe-block__venue__meta .tribe-block__venue__phone\, .tribe-block__venue .tribe-block__venue__meta .tribe-block__venue__website {\n    color: #858585;\n    font-size: 13px;\n}\n\n.kb-row-layout-id_b9ac49-6b > .kt-row-column-wrap {\npadding-top:0;\npadding-bottom:0;\n}\n\n.tribe-block__organizer__details {\npadding: 0; \nmargin:1rem 10% 0 10%;\nborder-top:none;\ntext-align:center;\n}\n\n.tribe-block__organizer__details p {\ndisplay:none;\n}\n\n.tribe-block__venue .tribe-block__venue__meta {\n    margin: 0 10%;\ntext-align:center;\n    padding-bottom: 16px;\n}\n\n.single-tribe_events .tribe-blocks-editor .tribe-events-schedule {\n    border: none;\n    margin: 10px 10% 15px 10%;\n    padding-bottom: 15px;\n}\n\n.single-tribe_events .tribe-events-event-image {\n margin:0; \n}\n\n.single-tribe_events .tribe-blocks-editor .tribe-events-single-event-title {\n    font-size: 42px;\n}\n\n.single-tribe_events .tribe-blocks-editor .tribe-events-schedule .tribe-events-schedule__datetime {\n    text-align: center;\n}\n\n.tribe-block__events-link {\n    padding: 20px 0;\n    display: flex;\n    justify-content: center;\n}\n\n.tribe-block__event-price {\n    font-family: var(–tec-font-family-sans-serif);\n    padding: 0 0 10px;\n}\n\n.wp-block-columns {\n    margin-bottom: 0; \n}\n\n.wp-block-kadence-column {\n    justify-content: center;\n}\n\n.tribe-block__event-price {\n    padding: 0;\n}\n\n.event-tickets .tribe-tickets__rsvp-actions .tribe-common-c-btn {\nbackground-image: linear-gradient(45deg\, #6EC1E4\, #126782);\nborder-radius: 10px;\n}\n\n.event-tickets .tribe-tickets__rsvp-wrapper {\nborder-radius: 10px;\nbox-shadow: 5px 5px 10px 1px rgba(0\, 0\, 0\, 0.2);\n}\n\n.tribe-events-event-image img {\nheight:500px;\n}\n\n.vertical-line { \n    border-left: 4px solid #333; \n    height: 100%; \n    position: absolute; \n    left: 50%; \n    top: 0; \n} \n\n@media (max-width: 767px){\n.tribe-common .tribe-common-h2 {\n    font-family: Roboto;\n    font-size: 20px;\n}\n.single-tribe_events .tribe-blocks-editor .tribe-events-single-event-title {\n    font-size: 22px;\n    line-height: 26px;\n}\n\n.tribe-events-event-image img {\n    height: 200px;\n}\n\n\n.kb-svg-icon-wrap svg {\n    height: 0.8em;\n    width: 0.8em;\n}\n.kt-block-spacer {\n    height: 30px;\n}\n\n.single-tribe_events .tribe-blocks-editor .tribe-events-schedule {\n    margin: 10px 10% 0px 10%;\n    padding-bottom: 0px;\n}\n\n.single-tribe_events #primary .tribe-events-schedule {\n    background: none;\n}\n\n.tribe-block__venue {\n    margin: 5px 0 0 0;\n    flex-direction:row;\n}\n\n.tribe-block__venue .tribe-block__venue__meta .tribe-block__venue__name h3 {\n    line-height: 1;\n    margin:0;\n}\n\n.tribe-block__venue .tribe-block__venue__meta {\n    padding-bottom: 2px;\n}\n\n.tribe-block__organizer__details {\n    margin: 5px 0 0 0;\n}\n\n.content-style-boxed .content-bg:not(.loop-entry) {\n    margin: 0;\n}\n\n.tribe-link-view-attendee {\n    margin: 0;\n}\n\n.event-tickets .tribe-tickets__rsvp {\n    padding: 20px 0 !important;\n}\n\n.event-tickets .tribe-tickets__rsvp-attendance {\n    margin-top: 0 !important;\n}\n\n.event-tickets .tribe-tickets__rsvp-actions {\n    margin-top: 20px !important;\n    padding: 20px 0 !important;\n}\n\n.tribe-block__attendees {\n    margin: 0;\n}\n\n#tribe-events-content a\, .tribe-events-event-meta a {\n    font-size: 14px;\n    font-family: roboto;\n    font-weight: 400;\n}\n\n.tribe-events-sub-nav li a {\n    background: none;\n}\n\n.tribe-link-view-attendee {\n    font-size: 13px;\n}
URL:https://pnoa.ca/event/whistler-kees-and-claire-hut/
LOCATION:Whistler
CATEGORIES:Camping & Tenting,Free Event,Hiking & Snowshoeing
ATTACH;FMTTYPE=image/jpeg:https://pnoa.ca/wp-content/uploads/2023/06/Kees-and-Claire-memorial-hut-1.jpeg
END:VEVENT
BEGIN:VEVENT
DTSTART;TZID=America/Vancouver:20230806T080000
DTEND;TZID=America/Vancouver:20230807T170000
DTSTAMP:20260422T020831
CREATED:20230617T032343Z
LAST-MODIFIED:20230617T035756Z
UID:3565-1691308800-1691427600@pnoa.ca
SUMMARY:Elfin Lakes Camping
DESCRIPTION:>>  About the event\n\n\n\n\n\n\n\n\n\n\n\n\nAug 6:\n\n7am 西温教堂(1525 Taylor Way West Van)\n\n\n\n8:30 Arrive at parking lot\n\n\n\nHiking to Elfin lakes campground (单程11KM\, 爬升600M， checkin after 1PM)\n\n\n\n\n\nAug 7\n\nLeave campground before noon\n\n\n\nHike back to parking lot\n\n\n\n\n\n\n\n\n\n\n\n\n\n\n\n\n\n\n\n\n\n\n\n\n\n\nMeeting Spot\n\n\n\nAdd the meeting spot name here\n\n\n\n7:15 am – Add the meeting time here\n\n\n\n\n\n\n\n\n\n\n\n\n\n\n\n\n\n\n\nDestination\n\n\n\nAdd the destination name here\n\n\n\n\n\n\n\n\n\n\n\n\n\n>>  Requirements\n\n\n\n\n\n\nOne day backpacking supplies\n\n\n\n\n\n\n\n\n\n\n>>  Register & Ticket\n\n\n\n\n\n\n\n\n\nTicket price: \n\n\n\n\n\n\n\n\n\n\n\n\n\n\n\n\n\n\n\n\n\n\n\n>>  Attendees\n\n\n\n\n\n\n\n\n\n\n\n.event-tickets .tribe-tickets__rsvp-wrapper {\nmargin: 20px 0 60px 0;\n}\n\n.kt-row-column-wrap {\n    padding: 0 !important;\n}\n\n.tribe-events-schedule__date {\nfont-size: 16px;\nfont-weight:600;\n}\n\n.tribe-events-schedule__time {\n    font-size: 16px;\n}\n\n.tribe-block__venue {\n   border-top: none;\n   padding: 0;\n   margin:1rem 0 0 0;\n}\n\n.tribe-block__venue .tribe-block__venue__meta .tribe-block__venue__address\, .tribe-block__venue .tribe-block__venue__meta .tribe-block__venue__phone\, .tribe-block__venue .tribe-block__venue__meta .tribe-block__venue__website {\n    color: #858585;\n    font-size: 13px;\n}\n\n.kb-row-layout-id_b9ac49-6b > .kt-row-column-wrap {\npadding-top:0;\npadding-bottom:0;\n}\n\n.tribe-block__organizer__details {\npadding: 0; \nmargin:1rem 10% 0 10%;\nborder-top:none;\ntext-align:center;\n}\n\n.tribe-block__organizer__details p {\ndisplay:none;\n}\n\n.tribe-block__venue .tribe-block__venue__meta {\n    margin: 0 10%;\ntext-align:center;\n    padding-bottom: 16px;\n}\n\n.single-tribe_events .tribe-blocks-editor .tribe-events-schedule {\n    border: none;\n    margin: 10px 10% 15px 10%;\n    padding-bottom: 15px;\n}\n\n.single-tribe_events .tribe-events-event-image {\n margin:0; \n}\n\n.single-tribe_events .tribe-blocks-editor .tribe-events-single-event-title {\n    font-size: 42px;\n}\n\n.single-tribe_events .tribe-blocks-editor .tribe-events-schedule .tribe-events-schedule__datetime {\n    text-align: center;\n}\n\n.tribe-block__events-link {\n    padding: 20px 0;\n    display: flex;\n    justify-content: center;\n}\n\n.tribe-block__event-price {\n    font-family: var(–tec-font-family-sans-serif);\n    padding: 0 0 10px;\n}\n\n.wp-block-columns {\n    margin-bottom: 0; \n}\n\n.wp-block-kadence-column {\n    justify-content: center;\n}\n\n.tribe-block__event-price {\n    padding: 0;\n}\n\n.event-tickets .tribe-tickets__rsvp-actions .tribe-common-c-btn {\nbackground-image: linear-gradient(45deg\, #6EC1E4\, #126782);\nborder-radius: 10px;\n}\n\n.event-tickets .tribe-tickets__rsvp-wrapper {\nborder-radius: 10px;\nbox-shadow: 5px 5px 10px 1px rgba(0\, 0\, 0\, 0.2);\n}\n\n.tribe-events-event-image img {\nheight:500px;\n}\n\n.vertical-line { \n    border-left: 4px solid #333; \n    height: 100%; \n    position: absolute; \n    left: 50%; \n    top: 0; \n} \n\n@media (max-width: 767px){\n.tribe-common .tribe-common-h2 {\n    font-family: Roboto;\n    font-size: 20px;\n}\n.single-tribe_events .tribe-blocks-editor .tribe-events-single-event-title {\n    font-size: 22px;\n    line-height: 26px;\n}\n\n.tribe-events-event-image img {\n    height: 200px;\n}\n\n\n.kb-svg-icon-wrap svg {\n    height: 0.8em;\n    width: 0.8em;\n}\n.kt-block-spacer {\n    height: 30px;\n}\n\n.single-tribe_events .tribe-blocks-editor .tribe-events-schedule {\n    margin: 10px 10% 0px 10%;\n    padding-bottom: 0px;\n}\n\n.single-tribe_events #primary .tribe-events-schedule {\n    background: none;\n}\n\n.tribe-block__venue {\n    margin: 5px 0 0 0;\n    flex-direction:row;\n}\n\n.tribe-block__venue .tribe-block__venue__meta .tribe-block__venue__name h3 {\n    line-height: 1;\n    margin:0;\n}\n\n.tribe-block__venue .tribe-block__venue__meta {\n    padding-bottom: 2px;\n}\n\n.tribe-block__organizer__details {\n    margin: 5px 0 0 0;\n}\n\n.content-style-boxed .content-bg:not(.loop-entry) {\n    margin: 0;\n}\n\n.tribe-link-view-attendee {\n    margin: 0;\n}\n\n.event-tickets .tribe-tickets__rsvp {\n    padding: 20px 0 !important;\n}\n\n.event-tickets .tribe-tickets__rsvp-attendance {\n    margin-top: 0 !important;\n}\n\n.event-tickets .tribe-tickets__rsvp-actions {\n    margin-top: 20px !important;\n    padding: 20px 0 !important;\n}\n\n.tribe-block__attendees {\n    margin: 0;\n}\n\n#tribe-events-content a\, .tribe-events-event-meta a {\n    font-size: 14px;\n    font-family: roboto;\n    font-weight: 400;\n}\n\n.tribe-events-sub-nav li a {\n    background: none;\n}\n\n.tribe-link-view-attendee {\n    font-size: 13px;\n}
URL:https://pnoa.ca/event/elfin-lakes-camping/
LOCATION:Elfin lakes
CATEGORIES:Camping & Tenting,Hiking & Snowshoeing,Multi Day Event
ATTACH;FMTTYPE=image/jpeg:https://pnoa.ca/wp-content/uploads/2023/06/Elfin-Lakes.jpg
END:VEVENT
BEGIN:VEVENT
DTSTART;TZID=America/Vancouver:20230617T080000
DTEND;TZID=America/Vancouver:20230618T170000
DTSTAMP:20260422T020831
CREATED:20230613T172322Z
LAST-MODIFIED:20230614T012129Z
UID:3484-1686988800-1687107600@pnoa.ca
SUMMARY:Trail Cleaning up at Lizzie Lake with BCMC
DESCRIPTION:>>  About the event\n\n\n\n\n\n\n\n\n\n\n\nItinerary \n\n\n\nJune 17\, Saturday.1\, Drive up to Lizzie Bay Rec area and join other volunteers with BCMC at 9:00AMtask briefing.2\, work with BCMC to clean up trail3\, Return back to Driftwood campground in evening to setup group tents(BCMC has secured the camp sites for us).4\, Overnight at campgroundJune 18\, Sunday1\, Lizzie lake trail cleaning and maintenance3\,get back to the trailhead parking lot at 3-4pm\, drive back home \n\n\n\nPower tools to be used( you can check out YouTube if you are interested in operating them):1\, Stihl MS170 Chain Saw 162\,Dtihl bush cutter \n\n\n\nNote:Long pants and long sleeve working clothes are recomended as Ticks were reported on the Lizzie Lake trail. \n\n\n\n\n\n\n\n\n\n\n\n\n\n\n\n\n\n\n\n\n\n\n\nMeeting Spot\n\n\n\nLizzie Bay Rec area at Lillooet Lake\n\n\n\n7:15 am – Add the meeting time here\n\n\n\n\n\n\n\n\n\n\n\n\n\n\n\n\n\n\n\nLizzie lake trail\n\n\n\nAdd the destination name here\n\n\n\n\n\n\n\n\n\n\n\n\n\n>>  Requirements\n\n\n\n\n\n\nPeronal Protection Equipment(PPE) to be prepared by PNOA and distributed at the trailhead:\n\n\n\n1\, Working gloves\n\n\n\n2\, Protecting goggles\n\n\n\n3\, Ear plugs\n\n\n\n5\, Chainsaw chaps(1 pairs)\n\n\n\nPersonal Equipment\n\n\n\n1\, carcamping gear for one night (Sleeping bag. participants can determine if they willing to share)\n\n\n\n2\, day hiking gear for 2 days\,\n\n\n\n3\, offline maps (there is no cell coverage\, recommend to download MapsME or other offline maps in advance) on the phone.\n\n\n\n4\, Communication dwvice: walkie talkie\, Chanel: 1816\n\n\n\n5\, First aid kit\n\n\n\n\n\n\n\n\n\n\n>>  Register & Ticket\n\n\n\n\n\n\n\n\n\nTicket price: \n\n\n\n\n\n\n\n\n\n\n\n\n\n\n\n\n\n\n\n\n\n\n\n>>  Attendees
URL:https://pnoa.ca/event/trail-cleaning-up-lizzie-lake-bcmc/
LOCATION:Squamish-Lillooet
CATEGORIES:Camping & Tenting,Free Event,Multi Day Event,Volunteering Opportunity
ATTACH;FMTTYPE=image/jpeg:https://pnoa.ca/wp-content/uploads/2023/06/trail_maintenance.jpeg
END:VEVENT
END:VCALENDAR