BEGIN:VCALENDAR
VERSION:2.0
PRODID:-//PNOA - ECPv6.15.20//NONSGML v1.0//EN
CALSCALE:GREGORIAN
METHOD:PUBLISH
X-WR-CALNAME:PNOA
X-ORIGINAL-URL:https://pnoa.ca
X-WR-CALDESC:Events for PNOA
REFRESH-INTERVAL;VALUE=DURATION:PT1H
X-Robots-Tag:noindex
X-PUBLISHED-TTL:PT1H
BEGIN:VTIMEZONE
TZID:America/Vancouver
BEGIN:DAYLIGHT
TZOFFSETFROM:-0800
TZOFFSETTO:-0700
TZNAME:PDT
DTSTART:20250309T100000
END:DAYLIGHT
BEGIN:STANDARD
TZOFFSETFROM:-0700
TZOFFSETTO:-0800
TZNAME:PST
DTSTART:20251102T090000
END:STANDARD
BEGIN:DAYLIGHT
TZOFFSETFROM:-0800
TZOFFSETTO:-0700
TZNAME:PDT
DTSTART:20260308T100000
END:DAYLIGHT
BEGIN:STANDARD
TZOFFSETFROM:-0700
TZOFFSETTO:-0800
TZNAME:PST
DTSTART:20261101T090000
END:STANDARD
BEGIN:DAYLIGHT
TZOFFSETFROM:-0800
TZOFFSETTO:-0700
TZNAME:PDT
DTSTART:20270314T100000
END:DAYLIGHT
BEGIN:STANDARD
TZOFFSETFROM:-0700
TZOFFSETTO:-0800
TZNAME:PST
DTSTART:20271107T090000
END:STANDARD
END:VTIMEZONE
BEGIN:VEVENT
DTSTART;TZID=America/Vancouver:20260214T120000
DTEND;TZID=America/Vancouver:20260215T180000
DTSTAMP:20260422T052103
CREATED:20260207T221317Z
LAST-MODIFIED:20260207T221948Z
UID:8273-1771070400-1771178400@pnoa.ca
SUMMARY:❄️🏔️ Mt Seymour CNY Winter Camping | 迎新春雪地露营 ⛺️❄️
DESCRIPTION:Join us to ring in the New Year on the snowy peaks of Mt Seymour! Enjoy sunsets\, starry nights\, and a fresh start to the year! 🌅✨欢迎报名参加 Mt Seymour 迎新春登高露营，在雪山巅峰赏日落云海，共度难忘佳节！ \n\n\n\n📅 Date/日期: Feb 14–15\, 2026 (Sat/Sun | 周六/日)📍 Meeting Point/集合点: Mt Seymour P1 Parking Lot @ 1:30 PM👤 Leader/领队: Baishui 白水 (Max 12 people | 限12人) \n\n\n\n\n\n\n\n⚠️ REQUIRED GEAR | 必备装备 (Non-negotiable/必须齐备): \n\n\n\n\nSleep/睡眠: Winter down bag\, High R-value mat\, Snow tent + stakes 😴 冬季羽绒睡袋、高R值垫、雪帐+地钉\n\n\n\nWear/保暖: Heavy down jacket/pants\, waterproof boots\, thermal hat/gloves 🧤 厚羽绒服/裤、防水登山鞋、保暖帽手套\n\n\n\nTools/行进: Snowshoes\, crampons\, and snow shovel 🥾 雪鞋、小冰爪、雪铲\n\n\n\nFood/餐饮: BP stove\, winter gas\, food & water 🍳 BP炉具、高山气罐、充足水粮\n\n\n\n\n\n\n\n\n🕒 ITINERARY | 行程安排: \n\n\n\n\nD1: 1:45 PM Trek (3km) ➡️ Set up camp ➡️ Sunset dinner 🥘 1:45 PM 出发徒步3公里 ➡️ 安营扎寨 ➡️ 日落晚餐\n\n\n\nD2: Sunrise ➡️ Breakfast ➡️ 3 Options (By Car): 🌅 日出 ➡️ 早餐 ➡️ 三选一 (以车为单位):\n\n\n\nA) Pack up & head home 🏠 拔营下山回家\n\n\n\nB) Summit First Peak (Pump Peak) 🚶‍♂️ 轻装徒步至一峰\n\n\n\nC) Tackle First & Second Peaks 🏆 轻装挑战一峰+二峰\n\n\n\n\n\n\n\n\n📝 How to Register | 报名方式：📧 Email us at: INFO@PNOA.CA | 发送邮件至：INFO@PNOA.CA \n\n\n\n⚠️ Safety first! Subject to weather changes. 活动视天气情况调整，安全第一！
URL:https://pnoa.ca/event/20260214_15-pnoa-mt-seymour-cny-winter-camping/
CATEGORIES:Camping & Tenting,Free Event
ATTACH;FMTTYPE=image/jpeg:https://pnoa.ca/wp-content/uploads/2026/02/mmexport1746250792050-scaled.jpg
ORGANIZER;CN="Timothy":MAILTO:Timothy.Chen@pnoa.ca
END:VEVENT
END:VCALENDAR