BEGIN:VCALENDAR
VERSION:2.0
PRODID:-//PNOA - ECPv6.15.20//NONSGML v1.0//EN
CALSCALE:GREGORIAN
METHOD:PUBLISH
X-ORIGINAL-URL:https://pnoa.ca
X-WR-CALDESC:Events for PNOA
REFRESH-INTERVAL;VALUE=DURATION:PT1H
X-Robots-Tag:noindex
X-PUBLISHED-TTL:PT1H
BEGIN:VTIMEZONE
TZID:America/Vancouver
BEGIN:DAYLIGHT
TZOFFSETFROM:-0800
TZOFFSETTO:-0700
TZNAME:PDT
DTSTART:20240310T100000
END:DAYLIGHT
BEGIN:STANDARD
TZOFFSETFROM:-0700
TZOFFSETTO:-0800
TZNAME:PST
DTSTART:20241103T090000
END:STANDARD
BEGIN:DAYLIGHT
TZOFFSETFROM:-0800
TZOFFSETTO:-0700
TZNAME:PDT
DTSTART:20250309T100000
END:DAYLIGHT
BEGIN:STANDARD
TZOFFSETFROM:-0700
TZOFFSETTO:-0800
TZNAME:PST
DTSTART:20251102T090000
END:STANDARD
BEGIN:DAYLIGHT
TZOFFSETFROM:-0800
TZOFFSETTO:-0700
TZNAME:PDT
DTSTART:20260308T100000
END:DAYLIGHT
BEGIN:STANDARD
TZOFFSETFROM:-0700
TZOFFSETTO:-0800
TZNAME:PST
DTSTART:20261101T090000
END:STANDARD
END:VTIMEZONE
BEGIN:VEVENT
DTSTART;TZID=America/Vancouver:20250629T073000
DTEND;TZID=America/Vancouver:20250701T173000
DTSTAMP:20260422T174838
CREATED:20250619T032636Z
LAST-MODIFIED:20250619T033626Z
UID:6382-1751182200-1751391000@pnoa.ca
SUMMARY:🏔️🌲 Mount Baker - Baker Lake Adventure! 🚣‍♀️| ## 🏔️🌲 Mt. Baker - Baker Lake 探险之旅! 🚣‍♀️
DESCRIPTION:Get ready for an unforgettable Canada Day Long Weekend at Baker Lake! Join us for car camping\, invigorating hikes\, and stand-up paddleboarding! 🏕️🚶‍♀️🏄‍♀️准备好在 Baker Lake 度过一个难忘的国庆长周末吧！加入我们，体验露营、徒步和桨板的乐趣！🏕️🚶‍♀️🏄‍♀️ \n\n\n\n\n\n\n\n🗓️ Event Details / 活动详情\n\n\n\n\nDates / 日期: June 29 – July 1\, 2025 (Long Weekend! 🇨🇦 / 长周末! 🇨🇦)\n\n\n\nLocation / 地点: Baker Lake (South Mt. Baker) 📍\n\n\n\nLeader / 负责人: Bai Shui / 白水\n\n\n\nMax Participants / 参与人数上限: 8 adventurers! 👯‍♀️ / 8位探险家！👯‍♀️\n\n\n\n\n\n\n\n\n🗺️ Itinerary Highlights (Weather Dependent ☀️🌧️) / 行程亮点 (视天气情况而定 ☀️🌧️)\n\n\n\n\nJune 29 / 6月29日: Arrive at Baker Lake\, set up camp\, and enjoy some SUP! ⛺ / 抵达 Baker Lake，搭建营地，享受桨板乐趣！⛺\n\n\n\nJune 30 / 6月30日: Exciting hike and a relaxing hot spring dip! ♨️ / 激动人心的徒步和放松身心的温泉浴！♨️\n\n\n\nJuly 1 / 7月1日: More hiking or SUP\, then head back to Vancouver or shop in the States! 🛍️ / 继续徒步或桨板，然后返回温哥华或在美国购物！🛍️\n\n\n\n\n\n\n\n\n✨ What to Expect / 活动目标\n\n\n\nBreathtaking rugged peaks\, scenic rivers\, and abundant wildlife! 🦌🦅🏞️欣赏崎岖的山峰、风景优美的河流和丰富的野生动物！🦌🦅🏞️ \n\n\n\n\n\n\n\nSee you there! 🤩 / 期待与您相见！🤩
URL:https://pnoa.ca/event/20250627_0701-baker-lake-car-camping/
CATEGORIES:Camping & Tenting,Free Event,Hiking & Snowshoeing
ATTACH;FMTTYPE=image/png:https://pnoa.ca/wp-content/uploads/2025/06/Screenshot-from-2025-06-18-20-35-47.png
ORGANIZER;CN="Timothy":MAILTO:Timothy.Chen@pnoa.ca
END:VEVENT
BEGIN:VEVENT
DTSTART;TZID=America/Vancouver:20250718T073000
DTEND;TZID=America/Vancouver:20250720T173000
DTSTAMP:20260422T174838
CREATED:20250619T034318Z
LAST-MODIFIED:20250619T035325Z
UID:6386-1752823800-1753032600@pnoa.ca
SUMMARY:🌲🎒 Garibaldi Wilderness Trek: A PNOA Backpacking Journey! / Garibaldi野外徒步：PNOA背包之旅！🎒🌲
DESCRIPTION:Hey outdoor enthusiasts! PNOA is thrilled to announce our upcoming backpacking trip to the stunning Garibaldi Provincial Park! Prepare to immerse yourselves in breathtaking views and create unforgettable memories. \n\n\n\n各位户外运动爱好者，PNOA非常高兴地宣布，我们将组织一次前往风景秀丽的加里波第省立公园的徒步旅行！准备好沉浸在令人叹为观止的美景中，创造难忘的回忆吧。 \n\n\n\nHere are the exciting details / 以下是激动人心的详情： \n\n\n\n\n📍 Location / 地点: Garibaldi Provincial Park\, BC / 加里波第省立公园，不列颠哥伦比亚省\n\n\n\n🗓️ Dates / 日期: July 18th – 20th / 7月18日至20日\n\n\n\n⏰ Start Time / 开始时间: 9:00 AM on Thursday\, July 18th / 7月18日（星期四）上午9:00\n\n\n\n👋 Meeting Point / 集合地点: Helm Creek Trailhead\n\n\n\n👋 End Time / 结束时间: 5:00 PM on Saturday\, July 20th / 7月20日（星期六）下午5:00\n\n\n\n🌟 Leader in Charge / 负责领队: Jane Zhao\n\n\n\n** begrenzt Participants / 参与人数:** Only 10 spots available! / 仅限10人！\n\n\n\n\n\n\n\n\nItinerary (Subject to Weather Conditions ☀️🌧️) / 行程安排（可能因天气情况而调整 ☀️🌧️）：\n\n\n\n\nJuly 18th (Thursday) / 7月18日（星期四）: Helm Creek Campsite 🏕️ / Helm Creek 营地 🏕️\n\n\n\nJuly 19th (Friday) / 7月19日（星期五）: Garibaldi Lake Campsite 🏞️ / Garibaldi Lake 营地 🏞️\n\n\n\nJuly 20th (Saturday) / 7月20日（星期六）: Drive Home 🚗💨 / 返程回家 🚗💨\n\n\n\n\n\n\n\n\nWhy Join Us? / 为什么加入我们？\n\n\n\n\n🌸 Experience BC’s Beauty / 体验BC省的美景: Discover the incredible spring scenery of our provincial parks. / 探索我们省立公园令人惊叹的春季风光。\n\n\n\n✨ Boost Your Outdoor Skills / 提升户外技能: Learn and practice essential outdoor safety and awareness. / 学习并实践基本的户外安全和意识。\n\n\n\n\nDon’t miss out on this incredible opportunity to connect with nature and fellow adventurers! Spaces are limited\, so mark your calendars and get ready to explore! \n\n\n\n不要错过这个亲近大自然、结识志同道合的探险者的绝佳机会！名额有限，请尽快安排您的行程，准备好去探索吧！ \n\n\n\n\n\n\n\nReady to hit the trails? Let us know if you have any questions! \n\n\n\n准备好踏上旅途了吗？如有任何疑问，请告诉我们！
URL:https://pnoa.ca/event/20250718_0720-garibaldi-backpacking/
CATEGORIES:Camping & Tenting,Free Event,Hiking & Snowshoeing
ATTACH;FMTTYPE=image/png:https://pnoa.ca/wp-content/uploads/2025/06/ChatGPT-Image-Jun-18-2025-08_52_33-PM.png
ORGANIZER;CN="Timothy":MAILTO:Timothy.Chen@pnoa.ca
END:VEVENT
END:VCALENDAR